BEGIN:VCALENDAR
VERSION:2.0
PRODID:-//hacksw/handcal//NONSGML v1.0//EN
CALSCALE:GREGORIAN
X-WR-CALNAME:ETHICS AND RULES IN FINANCE [EM1510]
DESCRIPTION:ETHICS AND RULES IN FINANCE [EM1510]
REFRESH-INTERVAL;VALUE=DURATION:P1D
X-WR-TIMEZONE:Europe/Rome
BEGIN:VEVENT
DTEND:20260216T101500
UID:69e702c934afa
DTSTAMP:20260421T045329
LOCATION:Aula 3B San Giobbe
SUMMARY:ETHICS AND RULES IN FINANCE [EM1510] - Minto Andrea\, Lezione
URL;VALUE=URI://www.unive.it/data/insegnamento/605982
DTSTART:20260216T084500
END:VEVENT
BEGIN:VEVENT
DTEND:20260217T101500
UID:69e702c934bbd
DTSTAMP:20260421T045329
LOCATION:Aula 3B San Giobbe
SUMMARY:ETHICS AND RULES IN FINANCE [EM1510] - Minto Andrea\, Lezione
URL;VALUE=URI://www.unive.it/data/insegnamento/605982
DTSTART:20260217T084500
END:VEVENT
BEGIN:VEVENT
DTEND:20260218T190000
UID:69e702c934c32
DTSTAMP:20260421T045329
LOCATION:Aula 3B San Giobbe
SUMMARY:ETHICS AND RULES IN FINANCE [EM1510] - Minto Andrea\, Lezione
URL;VALUE=URI://www.unive.it/data/insegnamento/605982
DTSTART:20260218T173000
END:VEVENT
BEGIN:VEVENT
DTEND:20260223T101500
UID:69e702c934c85
DTSTAMP:20260421T045329
LOCATION:Aula 3B San Giobbe
SUMMARY:ETHICS AND RULES IN FINANCE [EM1510] - Minto Andrea\, Lezione
URL;VALUE=URI://www.unive.it/data/insegnamento/605982
DTSTART:20260223T084500
END:VEVENT
BEGIN:VEVENT
DTEND:20260224T101500
UID:69e702c934cd2
DTSTAMP:20260421T045329
LOCATION:Aula 3B San Giobbe
SUMMARY:ETHICS AND RULES IN FINANCE [EM1510] - Minto Andrea\, Lezione
URL;VALUE=URI://www.unive.it/data/insegnamento/605982
DTSTART:20260224T084500
END:VEVENT
BEGIN:VEVENT
DTEND:20260225T190000
UID:69e702c934d1d
DTSTAMP:20260421T045329
LOCATION:Aula 3B San Giobbe
SUMMARY:ETHICS AND RULES IN FINANCE [EM1510] - Minto Andrea\, Lezione
URL;VALUE=URI://www.unive.it/data/insegnamento/605982
DTSTART:20260225T173000
END:VEVENT
BEGIN:VEVENT
DTEND:20260302T101500
UID:69e702c934d68
DTSTAMP:20260421T045329
LOCATION:Aula 3B San Giobbe
SUMMARY:ETHICS AND RULES IN FINANCE [EM1510] - Minto Andrea\, Lezione
URL;VALUE=URI://www.unive.it/data/insegnamento/605982
DTSTART:20260302T084500
END:VEVENT
BEGIN:VEVENT
DTEND:20260303T101500
UID:69e702c934db2
DTSTAMP:20260421T045329
LOCATION:Aula 3B San Giobbe
SUMMARY:ETHICS AND RULES IN FINANCE [EM1510] - Minto Andrea\, Lezione
URL;VALUE=URI://www.unive.it/data/insegnamento/605982
DTSTART:20260303T084500
END:VEVENT
BEGIN:VEVENT
DTEND:20260304T190000
UID:69e702c934de9
DTSTAMP:20260421T045329
LOCATION:Aula 3B San Giobbe
SUMMARY:ETHICS AND RULES IN FINANCE [EM1510] - Minto Andrea\, Lezione
URL;VALUE=URI://www.unive.it/data/insegnamento/605982
DTSTART:20260304T173000
END:VEVENT
BEGIN:VEVENT
DTEND:20260309T101500
UID:69e702c934e34
DTSTAMP:20260421T045329
LOCATION:Aula 3B San Giobbe
SUMMARY:ETHICS AND RULES IN FINANCE [EM1510] - Minto Andrea\, Lezione
URL;VALUE=URI://www.unive.it/data/insegnamento/605982
DTSTART:20260309T084500
END:VEVENT
BEGIN:VEVENT
DTEND:20260310T101500
UID:69e702c934e7f
DTSTAMP:20260421T045329
LOCATION:Aula 3B San Giobbe
SUMMARY:ETHICS AND RULES IN FINANCE [EM1510] - Minto Andrea\, Lezione
URL;VALUE=URI://www.unive.it/data/insegnamento/605982
DTSTART:20260310T084500
END:VEVENT
BEGIN:VEVENT
DTEND:20260311T190000
UID:69e702c934ec9
DTSTAMP:20260421T045329
LOCATION:Aula 3B San Giobbe
SUMMARY:ETHICS AND RULES IN FINANCE [EM1510] - Minto Andrea\, Lezione
URL;VALUE=URI://www.unive.it/data/insegnamento/605982
DTSTART:20260311T173000
END:VEVENT
BEGIN:VEVENT
DTEND:20260316T101500
UID:69e702c934f12
DTSTAMP:20260421T045329
LOCATION:Aula 3B San Giobbe
SUMMARY:ETHICS AND RULES IN FINANCE [EM1510] - Minto Andrea\, Lezione
URL;VALUE=URI://www.unive.it/data/insegnamento/605982
DTSTART:20260316T084500
END:VEVENT
BEGIN:VEVENT
DTEND:20260317T101500
UID:69e702c934f5d
DTSTAMP:20260421T045329
LOCATION:Aula 3B San Giobbe
SUMMARY:ETHICS AND RULES IN FINANCE [EM1510] - Minto Andrea\, Lezione
URL;VALUE=URI://www.unive.it/data/insegnamento/605982
DTSTART:20260317T084500
END:VEVENT
BEGIN:VEVENT
DTEND:20260318T190000
UID:69e702c934fa8
DTSTAMP:20260421T045329
LOCATION:Aula 3B San Giobbe
SUMMARY:ETHICS AND RULES IN FINANCE [EM1510] - Minto Andrea\, Lezione
URL;VALUE=URI://www.unive.it/data/insegnamento/605982
DTSTART:20260318T173000
END:VEVENT
BEGIN:VEVENT
DTEND:20260323T101500
UID:69e702c934ff3
DTSTAMP:20260421T045329
LOCATION:Aula 3B San Giobbe
SUMMARY:ETHICS AND RULES IN FINANCE [EM1510] - Minto Andrea\, Lezione
URL;VALUE=URI://www.unive.it/data/insegnamento/605982
DTSTART:20260323T084500
END:VEVENT
BEGIN:VEVENT
DTEND:20260324T101500
UID:69e702c93503d
DTSTAMP:20260421T045329
LOCATION:Aula 3B San Giobbe
SUMMARY:ETHICS AND RULES IN FINANCE [EM1510] - Minto Andrea\, Lezione
URL;VALUE=URI://www.unive.it/data/insegnamento/605982
DTSTART:20260324T084500
END:VEVENT
BEGIN:VEVENT
DTEND:20260325T190000
UID:69e702c935087
DTSTAMP:20260421T045329
LOCATION:Aula 3B San Giobbe
SUMMARY:ETHICS AND RULES IN FINANCE [EM1510] - Minto Andrea\, Lezione
URL;VALUE=URI://www.unive.it/data/insegnamento/605982
DTSTART:20260325T173000
END:VEVENT
END:VCALENDAR