BEGIN:VCALENDAR
VERSION:2.0
PRODID:-//hacksw/handcal//NONSGML v1.0//EN
CALSCALE:GREGORIAN
X-WR-CALNAME:POLICY EVALUATION METHODS [EM1515]
DESCRIPTION:POLICY EVALUATION METHODS [EM1515]
REFRESH-INTERVAL;VALUE=DURATION:P1D
X-WR-TIMEZONE:Europe/Rome
BEGIN:VEVENT
DTEND:20250922T153000
UID:69e6eba5c3993
DTSTAMP:20260421T031445
LOCATION:Aula 0C Palazzo Moro
SUMMARY:POLICY EVALUATION METHODS [EM1515] - PASINI Giacomo\, Lezione
URL;VALUE=URI://www.unive.it/data/insegnamento/605992
DTSTART:20250922T140000
END:VEVENT
BEGIN:VEVENT
DTEND:20250923T120000
UID:69e6eba5c3a13
DTSTAMP:20260421T031445
LOCATION:Aula 0C Palazzo Moro
SUMMARY:POLICY EVALUATION METHODS [EM1515] - PASINI Giacomo\, Lezione
URL;VALUE=URI://www.unive.it/data/insegnamento/605992
DTSTART:20250923T103000
END:VEVENT
BEGIN:VEVENT
DTEND:20250924T120000
UID:69e6eba5c3a65
DTSTAMP:20260421T031445
LOCATION:Aula 0C Palazzo Moro
SUMMARY:POLICY EVALUATION METHODS [EM1515] - PASINI Giacomo\, Lezione
URL;VALUE=URI://www.unive.it/data/insegnamento/605992
DTSTART:20250924T103000
END:VEVENT
BEGIN:VEVENT
DTEND:20250929T153000
UID:69e6eba5c3ab5
DTSTAMP:20260421T031445
LOCATION:Aula 0C Palazzo Moro
SUMMARY:POLICY EVALUATION METHODS [EM1515] - PASINI Giacomo\, Lezione
URL;VALUE=URI://www.unive.it/data/insegnamento/605992
DTSTART:20250929T140000
END:VEVENT
BEGIN:VEVENT
DTEND:20250930T120000
UID:69e6eba5c3b01
DTSTAMP:20260421T031445
LOCATION:Aula 0C Palazzo Moro
SUMMARY:POLICY EVALUATION METHODS [EM1515] - PASINI Giacomo\, Lezione
URL;VALUE=URI://www.unive.it/data/insegnamento/605992
DTSTART:20250930T103000
END:VEVENT
BEGIN:VEVENT
DTEND:20251001T120000
UID:69e6eba5c3b5a
DTSTAMP:20260421T031445
LOCATION:Aula 0C Palazzo Moro
SUMMARY:POLICY EVALUATION METHODS [EM1515] - PASINI Giacomo\, Lezione
URL;VALUE=URI://www.unive.it/data/insegnamento/605992
DTSTART:20251001T103000
END:VEVENT
BEGIN:VEVENT
DTEND:20251006T153000
UID:69e6eba5c3ba5
DTSTAMP:20260421T031445
LOCATION:Aula 0C Palazzo Moro
SUMMARY:POLICY EVALUATION METHODS [EM1515] - PASINI Giacomo\, Lezione
URL;VALUE=URI://www.unive.it/data/insegnamento/605992
DTSTART:20251006T140000
END:VEVENT
BEGIN:VEVENT
DTEND:20251007T120000
UID:69e6eba5c3bf0
DTSTAMP:20260421T031445
LOCATION:Aula 0C Palazzo Moro
SUMMARY:POLICY EVALUATION METHODS [EM1515] - PASINI Giacomo\, Lezione
URL;VALUE=URI://www.unive.it/data/insegnamento/605992
DTSTART:20251007T103000
END:VEVENT
BEGIN:VEVENT
DTEND:20251008T120000
UID:69e6eba5c3c3a
DTSTAMP:20260421T031445
LOCATION:Aula 0C Palazzo Moro
SUMMARY:POLICY EVALUATION METHODS [EM1515] - PASINI Giacomo\, Lezione
URL;VALUE=URI://www.unive.it/data/insegnamento/605992
DTSTART:20251008T103000
END:VEVENT
BEGIN:VEVENT
DTEND:20251013T153000
UID:69e6eba5c3c90
DTSTAMP:20260421T031445
LOCATION:Aula 0C Palazzo Moro
SUMMARY:POLICY EVALUATION METHODS [EM1515] - PASINI Giacomo\, Lezione
URL;VALUE=URI://www.unive.it/data/insegnamento/605992
DTSTART:20251013T140000
END:VEVENT
BEGIN:VEVENT
DTEND:20251014T120000
UID:69e6eba5c3cda
DTSTAMP:20260421T031445
LOCATION:Aula 0C Palazzo Moro
SUMMARY:POLICY EVALUATION METHODS [EM1515] - PASINI Giacomo\, Lezione
URL;VALUE=URI://www.unive.it/data/insegnamento/605992
DTSTART:20251014T103000
END:VEVENT
BEGIN:VEVENT
DTEND:20251015T120000
UID:69e6eba5c3d25
DTSTAMP:20260421T031445
LOCATION:Aula 0C Palazzo Moro
SUMMARY:POLICY EVALUATION METHODS [EM1515] - PASINI Giacomo\, Lezione
URL;VALUE=URI://www.unive.it/data/insegnamento/605992
DTSTART:20251015T103000
END:VEVENT
BEGIN:VEVENT
DTEND:20251020T153000
UID:69e6eba5c3d6f
DTSTAMP:20260421T031445
LOCATION:Aula 0C Palazzo Moro
SUMMARY:POLICY EVALUATION METHODS [EM1515] - PASINI Giacomo\, Lezione
URL;VALUE=URI://www.unive.it/data/insegnamento/605992
DTSTART:20251020T140000
END:VEVENT
BEGIN:VEVENT
DTEND:20251021T120000
UID:69e6eba5c3db9
DTSTAMP:20260421T031445
LOCATION:Aula 0C Palazzo Moro
SUMMARY:POLICY EVALUATION METHODS [EM1515] - PASINI Giacomo\, Lezione
URL;VALUE=URI://www.unive.it/data/insegnamento/605992
DTSTART:20251021T103000
END:VEVENT
BEGIN:VEVENT
DTEND:20251027T153000
UID:69e6eba5c3e02
DTSTAMP:20260421T031445
LOCATION:Aula 0C Palazzo Moro
SUMMARY:POLICY EVALUATION METHODS [EM1515] - PASINI Giacomo\, Lezione
URL;VALUE=URI://www.unive.it/data/insegnamento/605992
DTSTART:20251027T140000
END:VEVENT
BEGIN:VEVENT
DTEND:20251029T120000
UID:69e6eba5c3e4c
DTSTAMP:20260421T031445
LOCATION:Aula 0C Palazzo Moro
SUMMARY:POLICY EVALUATION METHODS [EM1515] - PASINI Giacomo\, Lezione
URL;VALUE=URI://www.unive.it/data/insegnamento/605992
DTSTART:20251029T103000
END:VEVENT
END:VCALENDAR