BEGIN:VCALENDAR
VERSION:2.0
PRODID:-//hacksw/handcal//NONSGML v1.0//EN
CALSCALE:GREGORIAN
X-WR-CALNAME:FINTECH REGULATION AND FINANCIAL INNOVATION [EM2094]
DESCRIPTION:FINTECH REGULATION AND FINANCIAL INNOVATION [EM2094]
REFRESH-INTERVAL;VALUE=DURATION:P1D
X-WR-TIMEZONE:Europe/Rome
BEGIN:VEVENT
DTEND:20260216T120000
UID:69e6eba429153
DTSTAMP:20260421T031444
LOCATION:Aula 9C San Giobbe
SUMMARY:FINTECH REGULATION AND FINANCIAL INNOVATION [EM2094] - Minto Andrea\, Lezione
URL;VALUE=URI://www.unive.it/data/insegnamento/605993
DTSTART:20260216T103000
END:VEVENT
BEGIN:VEVENT
DTEND:20260217T120000
UID:69e6eba4291f5
DTSTAMP:20260421T031444
LOCATION:Aula 9C San Giobbe
SUMMARY:FINTECH REGULATION AND FINANCIAL INNOVATION [EM2094] - Minto Andrea\, Lezione
URL;VALUE=URI://www.unive.it/data/insegnamento/605993
DTSTART:20260217T103000
END:VEVENT
BEGIN:VEVENT
DTEND:20260218T171500
UID:69e6eba42924a
DTSTAMP:20260421T031444
LOCATION:Aula 3B San Giobbe
SUMMARY:FINTECH REGULATION AND FINANCIAL INNOVATION [EM2094] - Minto Andrea\, Lezione
URL;VALUE=URI://www.unive.it/data/insegnamento/605993
DTSTART:20260218T154500
END:VEVENT
BEGIN:VEVENT
DTEND:20260223T120000
UID:69e6eba4292a9
DTSTAMP:20260421T031444
LOCATION:Aula 9C San Giobbe
SUMMARY:FINTECH REGULATION AND FINANCIAL INNOVATION [EM2094] - Minto Andrea\, Lezione
URL;VALUE=URI://www.unive.it/data/insegnamento/605993
DTSTART:20260223T103000
END:VEVENT
BEGIN:VEVENT
DTEND:20260224T120000
UID:69e6eba4292f6
DTSTAMP:20260421T031444
LOCATION:Aula 9C San Giobbe
SUMMARY:FINTECH REGULATION AND FINANCIAL INNOVATION [EM2094] - Minto Andrea\, Lezione
URL;VALUE=URI://www.unive.it/data/insegnamento/605993
DTSTART:20260224T103000
END:VEVENT
BEGIN:VEVENT
DTEND:20260225T171500
UID:69e6eba429341
DTSTAMP:20260421T031444
LOCATION:Aula 3B San Giobbe
SUMMARY:FINTECH REGULATION AND FINANCIAL INNOVATION [EM2094] - Minto Andrea\, Lezione
URL;VALUE=URI://www.unive.it/data/insegnamento/605993
DTSTART:20260225T154500
END:VEVENT
BEGIN:VEVENT
DTEND:20260302T120000
UID:69e6eba42938e
DTSTAMP:20260421T031444
LOCATION:Aula 9C San Giobbe
SUMMARY:FINTECH REGULATION AND FINANCIAL INNOVATION [EM2094] - Minto Andrea\, Lezione
URL;VALUE=URI://www.unive.it/data/insegnamento/605993
DTSTART:20260302T103000
END:VEVENT
BEGIN:VEVENT
DTEND:20260303T120000
UID:69e6eba4293e6
DTSTAMP:20260421T031444
LOCATION:Aula 9C San Giobbe
SUMMARY:FINTECH REGULATION AND FINANCIAL INNOVATION [EM2094] - Minto Andrea\, Lezione
URL;VALUE=URI://www.unive.it/data/insegnamento/605993
DTSTART:20260303T103000
END:VEVENT
BEGIN:VEVENT
DTEND:20260304T171500
UID:69e6eba42943f
DTSTAMP:20260421T031444
LOCATION:Aula 3B San Giobbe
SUMMARY:FINTECH REGULATION AND FINANCIAL INNOVATION [EM2094] - Minto Andrea\, Lezione
URL;VALUE=URI://www.unive.it/data/insegnamento/605993
DTSTART:20260304T154500
END:VEVENT
BEGIN:VEVENT
DTEND:20260309T120000
UID:69e6eba42949a
DTSTAMP:20260421T031444
LOCATION:Aula 9C San Giobbe
SUMMARY:FINTECH REGULATION AND FINANCIAL INNOVATION [EM2094] - Minto Andrea\, Lezione
URL;VALUE=URI://www.unive.it/data/insegnamento/605993
DTSTART:20260309T103000
END:VEVENT
BEGIN:VEVENT
DTEND:20260310T120000
UID:69e6eba4294f3
DTSTAMP:20260421T031444
LOCATION:Aula 9C San Giobbe
SUMMARY:FINTECH REGULATION AND FINANCIAL INNOVATION [EM2094] - Minto Andrea\, Lezione
URL;VALUE=URI://www.unive.it/data/insegnamento/605993
DTSTART:20260310T103000
END:VEVENT
BEGIN:VEVENT
DTEND:20260311T171500
UID:69e6eba42953f
DTSTAMP:20260421T031444
LOCATION:Aula 3B San Giobbe
SUMMARY:FINTECH REGULATION AND FINANCIAL INNOVATION [EM2094] - Minto Andrea\, Lezione
URL;VALUE=URI://www.unive.it/data/insegnamento/605993
DTSTART:20260311T154500
END:VEVENT
BEGIN:VEVENT
DTEND:20260316T120000
UID:69e6eba42958a
DTSTAMP:20260421T031444
LOCATION:Aula 9C San Giobbe
SUMMARY:FINTECH REGULATION AND FINANCIAL INNOVATION [EM2094] - Minto Andrea\, Lezione
URL;VALUE=URI://www.unive.it/data/insegnamento/605993
DTSTART:20260316T103000
END:VEVENT
BEGIN:VEVENT
DTEND:20260317T120000
UID:69e6eba4295e2
DTSTAMP:20260421T031444
LOCATION:Aula 9C San Giobbe
SUMMARY:FINTECH REGULATION AND FINANCIAL INNOVATION [EM2094] - Minto Andrea\, Lezione
URL;VALUE=URI://www.unive.it/data/insegnamento/605993
DTSTART:20260317T103000
END:VEVENT
BEGIN:VEVENT
DTEND:20260318T171500
UID:69e6eba429640
DTSTAMP:20260421T031444
LOCATION:Aula 3B San Giobbe
SUMMARY:FINTECH REGULATION AND FINANCIAL INNOVATION [EM2094] - Minto Andrea\, Lezione
URL;VALUE=URI://www.unive.it/data/insegnamento/605993
DTSTART:20260318T154500
END:VEVENT
BEGIN:VEVENT
DTEND:20260323T120000
UID:69e6eba4296a6
DTSTAMP:20260421T031444
LOCATION:Aula 9C San Giobbe
SUMMARY:FINTECH REGULATION AND FINANCIAL INNOVATION [EM2094] - Minto Andrea\, Lezione
URL;VALUE=URI://www.unive.it/data/insegnamento/605993
DTSTART:20260323T103000
END:VEVENT
BEGIN:VEVENT
DTEND:20260324T120000
UID:69e6eba4296f3
DTSTAMP:20260421T031444
LOCATION:Aula 9C San Giobbe
SUMMARY:FINTECH REGULATION AND FINANCIAL INNOVATION [EM2094] - Minto Andrea\, Lezione
URL;VALUE=URI://www.unive.it/data/insegnamento/605993
DTSTART:20260324T103000
END:VEVENT
BEGIN:VEVENT
DTEND:20260325T171500
UID:69e6eba42973d
DTSTAMP:20260421T031444
LOCATION:Aula 3B San Giobbe
SUMMARY:FINTECH REGULATION AND FINANCIAL INNOVATION [EM2094] - Minto Andrea\, Lezione
URL;VALUE=URI://www.unive.it/data/insegnamento/605993
DTSTART:20260325T154500
END:VEVENT
END:VCALENDAR