BEGIN:VCALENDAR
VERSION:2.0
PRODID:-//hacksw/handcal//NONSGML v1.0//EN
CALSCALE:GREGORIAN
X-WR-CALNAME:HEALTH ECONOMICS [EM1513]
DESCRIPTION:HEALTH ECONOMICS [EM1513]
REFRESH-INTERVAL;VALUE=DURATION:P1D
X-WR-TIMEZONE:Europe/Rome
BEGIN:VEVENT
DTEND:20251110T101500
UID:69e6eba5970dd
DTSTAMP:20260421T031445
LOCATION:Aula 3B San Giobbe
SUMMARY:HEALTH ECONOMICS [EM1513] - MOSCONE Francesco\, Lezione
URL;VALUE=URI://www.unive.it/data/insegnamento/605996
DTSTART:20251110T084500
END:VEVENT
BEGIN:VEVENT
DTEND:20251111T153000
UID:69e6eba597187
DTSTAMP:20260421T031445
LOCATION:Aula 3B San Giobbe
SUMMARY:HEALTH ECONOMICS [EM1513] - MOSCONE Francesco\, Lezione
URL;VALUE=URI://www.unive.it/data/insegnamento/605996
DTSTART:20251111T140000
END:VEVENT
BEGIN:VEVENT
DTEND:20251112T101500
UID:69e6eba5971d8
DTSTAMP:20260421T031445
LOCATION:Aula 3B San Giobbe
SUMMARY:HEALTH ECONOMICS [EM1513] - MOSCONE Francesco\, Lezione
URL;VALUE=URI://www.unive.it/data/insegnamento/605996
DTSTART:20251112T084500
END:VEVENT
BEGIN:VEVENT
DTEND:20251117T101500
UID:69e6eba597225
DTSTAMP:20260421T031445
LOCATION:Aula 3B San Giobbe
SUMMARY:HEALTH ECONOMICS [EM1513] - MOSCONE Francesco\, Lezione
URL;VALUE=URI://www.unive.it/data/insegnamento/605996
DTSTART:20251117T084500
END:VEVENT
BEGIN:VEVENT
DTEND:20251118T153000
UID:69e6eba59726f
DTSTAMP:20260421T031445
LOCATION:Aula 3B San Giobbe
SUMMARY:HEALTH ECONOMICS [EM1513] - MOSCONE Francesco\, Lezione
URL;VALUE=URI://www.unive.it/data/insegnamento/605996
DTSTART:20251118T140000
END:VEVENT
BEGIN:VEVENT
DTEND:20251119T101500
UID:69e6eba5972b9
DTSTAMP:20260421T031445
LOCATION:Aula 3B San Giobbe
SUMMARY:HEALTH ECONOMICS [EM1513] - MOSCONE Francesco\, Lezione
URL;VALUE=URI://www.unive.it/data/insegnamento/605996
DTSTART:20251119T084500
END:VEVENT
BEGIN:VEVENT
DTEND:20251124T101500
UID:69e6eba597303
DTSTAMP:20260421T031445
LOCATION:Aula 3B San Giobbe
SUMMARY:HEALTH ECONOMICS [EM1513] - MOSCONE Francesco\, Lezione
URL;VALUE=URI://www.unive.it/data/insegnamento/605996
DTSTART:20251124T084500
END:VEVENT
BEGIN:VEVENT
DTEND:20251125T153000
UID:69e6eba59734d
DTSTAMP:20260421T031445
LOCATION:Aula 3B San Giobbe
SUMMARY:HEALTH ECONOMICS [EM1513] - MOSCONE Francesco\, Lezione
URL;VALUE=URI://www.unive.it/data/insegnamento/605996
DTSTART:20251125T140000
END:VEVENT
BEGIN:VEVENT
DTEND:20251126T101500
UID:69e6eba597396
DTSTAMP:20260421T031445
LOCATION:Aula 3B San Giobbe
SUMMARY:HEALTH ECONOMICS [EM1513] - MOSCONE Francesco\, Lezione
URL;VALUE=URI://www.unive.it/data/insegnamento/605996
DTSTART:20251126T084500
END:VEVENT
BEGIN:VEVENT
DTEND:20251201T101500
UID:69e6eba5973e0
DTSTAMP:20260421T031445
LOCATION:Aula 3B San Giobbe
SUMMARY:HEALTH ECONOMICS [EM1513] - MOSCONE Francesco\, Lezione
URL;VALUE=URI://www.unive.it/data/insegnamento/605996
DTSTART:20251201T084500
END:VEVENT
BEGIN:VEVENT
DTEND:20251202T153000
UID:69e6eba597420
DTSTAMP:20260421T031445
LOCATION:Aula 3B San Giobbe
SUMMARY:HEALTH ECONOMICS [EM1513] - MOSCONE Francesco\, Lezione
URL;VALUE=URI://www.unive.it/data/insegnamento/605996
DTSTART:20251202T140000
END:VEVENT
BEGIN:VEVENT
DTEND:20251203T101500
UID:69e6eba59746b
DTSTAMP:20260421T031445
LOCATION:Aula 3B San Giobbe
SUMMARY:HEALTH ECONOMICS [EM1513] - MOSCONE Francesco\, Lezione
URL;VALUE=URI://www.unive.it/data/insegnamento/605996
DTSTART:20251203T084500
END:VEVENT
BEGIN:VEVENT
DTEND:20251209T153000
UID:69e6eba5974b5
DTSTAMP:20260421T031445
LOCATION:Aula 3B San Giobbe
SUMMARY:HEALTH ECONOMICS [EM1513] - MOSCONE Francesco\, Lezione
URL;VALUE=URI://www.unive.it/data/insegnamento/605996
DTSTART:20251209T140000
END:VEVENT
BEGIN:VEVENT
DTEND:20251210T101500
UID:69e6eba5974fe
DTSTAMP:20260421T031445
LOCATION:Aula 3B San Giobbe
SUMMARY:HEALTH ECONOMICS [EM1513] - MOSCONE Francesco\, Lezione
URL;VALUE=URI://www.unive.it/data/insegnamento/605996
DTSTART:20251210T084500
END:VEVENT
BEGIN:VEVENT
DTEND:20251215T101500
UID:69e6eba597548
DTSTAMP:20260421T031445
LOCATION:Aula 3B San Giobbe
SUMMARY:HEALTH ECONOMICS [EM1513] - MOSCONE Francesco\, Lezione
URL;VALUE=URI://www.unive.it/data/insegnamento/605996
DTSTART:20251215T084500
END:VEVENT
BEGIN:VEVENT
DTEND:20251216T153000
UID:69e6eba597591
DTSTAMP:20260421T031445
LOCATION:Aula 3B San Giobbe
SUMMARY:HEALTH ECONOMICS [EM1513] - MOSCONE Francesco\, Lezione
URL;VALUE=URI://www.unive.it/data/insegnamento/605996
DTSTART:20251216T140000
END:VEVENT
BEGIN:VEVENT
DTEND:20251217T101500
UID:69e6eba5975db
DTSTAMP:20260421T031445
LOCATION:Aula 3B San Giobbe
SUMMARY:HEALTH ECONOMICS [EM1513] - MOSCONE Francesco\, Lezione
URL;VALUE=URI://www.unive.it/data/insegnamento/605996
DTSTART:20251217T084500
END:VEVENT
END:VCALENDAR