BEGIN:VCALENDAR
VERSION:2.0
PRODID:-//hacksw/handcal//NONSGML v1.0//EN
CALSCALE:GREGORIAN
X-WR-CALNAME:LINGUISTICA SLAVA [LT0960]
DESCRIPTION:LINGUISTICA SLAVA [LT0960]
REFRESH-INTERVAL;VALUE=DURATION:P1D
X-WR-TIMEZONE:Europe/Rome
BEGIN:VEVENT
DTEND:20250926T101500
UID:69e796450ec93
DTSTAMP:20260421T152245
LOCATION:Aula C Ca' Bembo
SUMMARY:LINGUISTICA SLAVA [LT0960] - KRAPOVA Iliana\, Lezione
URL;VALUE=URI://www.unive.it/data/insegnamento/607659
DTSTART:20250926T084500
END:VEVENT
BEGIN:VEVENT
DTEND:20251003T101500
UID:69e796450ed17
DTSTAMP:20260421T152245
LOCATION:Aula C Ca' Bembo
SUMMARY:LINGUISTICA SLAVA [LT0960] - KRAPOVA Iliana\, Lezione
URL;VALUE=URI://www.unive.it/data/insegnamento/607659
DTSTART:20251003T084500
END:VEVENT
BEGIN:VEVENT
DTEND:20251010T101500
UID:69e796450ed67
DTSTAMP:20260421T152245
LOCATION:Aula C Ca' Bembo
SUMMARY:LINGUISTICA SLAVA [LT0960] - KRAPOVA Iliana\, Lezione
URL;VALUE=URI://www.unive.it/data/insegnamento/607659
DTSTART:20251010T084500
END:VEVENT
BEGIN:VEVENT
DTEND:20251017T101500
UID:69e796450edb1
DTSTAMP:20260421T152245
LOCATION:Aula C Ca' Bembo
SUMMARY:LINGUISTICA SLAVA [LT0960] - KRAPOVA Iliana\, Lezione
URL;VALUE=URI://www.unive.it/data/insegnamento/607659
DTSTART:20251017T084500
END:VEVENT
BEGIN:VEVENT
DTEND:20251024T101500
UID:69e796450edfb
DTSTAMP:20260421T152245
LOCATION:Aula C Ca' Bembo
SUMMARY:LINGUISTICA SLAVA [LT0960] - KRAPOVA Iliana\, Lezione
URL;VALUE=URI://www.unive.it/data/insegnamento/607659
DTSTART:20251024T084500
END:VEVENT
BEGIN:VEVENT
DTEND:20251031T101500
UID:69e796450ee44
DTSTAMP:20260421T152245
LOCATION:Aula C Ca' Bembo
SUMMARY:LINGUISTICA SLAVA [LT0960] - KRAPOVA Iliana\, Lezione
URL;VALUE=URI://www.unive.it/data/insegnamento/607659
DTSTART:20251031T084500
END:VEVENT
BEGIN:VEVENT
DTEND:20251107T101500
UID:69e796450ee8d
DTSTAMP:20260421T152245
LOCATION:Aula C Ca' Bembo
SUMMARY:LINGUISTICA SLAVA [LT0960] - KRAPOVA Iliana\, Lezione
URL;VALUE=URI://www.unive.it/data/insegnamento/607659
DTSTART:20251107T084500
END:VEVENT
BEGIN:VEVENT
DTEND:20251114T101500
UID:69e796450eed6
DTSTAMP:20260421T152245
LOCATION:Aula C Ca' Bembo
SUMMARY:LINGUISTICA SLAVA [LT0960] - KRAPOVA Iliana\, Lezione
URL;VALUE=URI://www.unive.it/data/insegnamento/607659
DTSTART:20251114T084500
END:VEVENT
BEGIN:VEVENT
DTEND:20251128T101500
UID:69e796450ef21
DTSTAMP:20260421T152245
LOCATION:Aula C Ca' Bembo
SUMMARY:LINGUISTICA SLAVA [LT0960] - KRAPOVA Iliana\, Lezione
URL;VALUE=URI://www.unive.it/data/insegnamento/607659
DTSTART:20251128T084500
END:VEVENT
BEGIN:VEVENT
DTEND:20251205T101500
UID:69e796450ef6a
DTSTAMP:20260421T152245
LOCATION:Aula C Ca' Bembo
SUMMARY:LINGUISTICA SLAVA [LT0960] - KRAPOVA Iliana\, Lezione
URL;VALUE=URI://www.unive.it/data/insegnamento/607659
DTSTART:20251205T084500
END:VEVENT
BEGIN:VEVENT
DTEND:20251212T101500
UID:69e796450efb4
DTSTAMP:20260421T152245
LOCATION:Aula C Ca' Bembo
SUMMARY:LINGUISTICA SLAVA [LT0960] - KRAPOVA Iliana\, Lezione
URL;VALUE=URI://www.unive.it/data/insegnamento/607659
DTSTART:20251212T084500
END:VEVENT
BEGIN:VEVENT
DTEND:20251219T101500
UID:69e796450effd
DTSTAMP:20260421T152245
LOCATION:Aula C Ca' Bembo
SUMMARY:LINGUISTICA SLAVA [LT0960] - KRAPOVA Iliana\, Lezione
URL;VALUE=URI://www.unive.it/data/insegnamento/607659
DTSTART:20251219T084500
END:VEVENT
BEGIN:VEVENT
DTEND:20260116T101500
UID:69e796450f047
DTSTAMP:20260421T152245
LOCATION:Aula C Ca' Bembo
SUMMARY:LINGUISTICA SLAVA [LT0960] - KRAPOVA Iliana\, Lezione
URL;VALUE=URI://www.unive.it/data/insegnamento/607659
DTSTART:20260116T084500
END:VEVENT
BEGIN:VEVENT
DTEND:20260123T101500
UID:69e796450f071
DTSTAMP:20260421T152245
LOCATION:Aula C Ca' Bembo
SUMMARY:LINGUISTICA SLAVA [LT0960] - KRAPOVA Iliana\, Lezione
URL;VALUE=URI://www.unive.it/data/insegnamento/607659
DTSTART:20260123T084500
END:VEVENT
END:VCALENDAR