BEGIN:VCALENDAR
VERSION:2.0
PRODID:-//hacksw/handcal//NONSGML v1.0//EN
CALSCALE:GREGORIAN
X-WR-CALNAME:MACHINE LEARNING [CT0642]
DESCRIPTION:MACHINE LEARNING [CT0642]
REFRESH-INTERVAL;VALUE=DURATION:P1D
X-WR-TIMEZONE:Europe/Rome
BEGIN:VEVENT
DTEND:20260303T120000
UID:69e6e540badb8
DTSTAMP:20260421T024728
LOCATION:Aula Epsilon 3 Campus scientifico via Torino (edificio Epsilon)
SUMMARY:MACHINE LEARNING [CT0642] - VASCON SEBASTIANO\, Lezione
URL;VALUE=URI://www.unive.it/data/insegnamento/608440
DTSTART:20260303T103000
END:VEVENT
BEGIN:VEVENT
DTEND:20260310T120000
UID:69e6e540bae5d
DTSTAMP:20260421T024728
LOCATION:Aula Epsilon 3 Campus scientifico via Torino (edificio Epsilon)
SUMMARY:MACHINE LEARNING [CT0642] - VASCON SEBASTIANO\, Lezione
URL;VALUE=URI://www.unive.it/data/insegnamento/608440
DTSTART:20260310T103000
END:VEVENT
BEGIN:VEVENT
DTEND:20260311T134500
UID:69e6e540baebf
DTSTAMP:20260421T024728
LOCATION:Aula Epsilon 1 Campus scientifico via Torino (edificio Epsilon)
SUMMARY:MACHINE LEARNING [CT0642] - VASCON SEBASTIANO\, Lezione
URL;VALUE=URI://www.unive.it/data/insegnamento/608440
DTSTART:20260311T121500
END:VEVENT
BEGIN:VEVENT
DTEND:20260317T120000
UID:69e6e540baf14
DTSTAMP:20260421T024728
LOCATION:Aula Epsilon 3 Campus scientifico via Torino (edificio Epsilon)
SUMMARY:MACHINE LEARNING [CT0642] - VASCON SEBASTIANO\, Lezione
URL;VALUE=URI://www.unive.it/data/insegnamento/608440
DTSTART:20260317T103000
END:VEVENT
BEGIN:VEVENT
DTEND:20260318T134500
UID:69e6e540baf69
DTSTAMP:20260421T024728
LOCATION:Aula Epsilon 1 Campus scientifico via Torino (edificio Epsilon)
SUMMARY:MACHINE LEARNING [CT0642] - VASCON SEBASTIANO\, Lezione
URL;VALUE=URI://www.unive.it/data/insegnamento/608440
DTSTART:20260318T121500
END:VEVENT
BEGIN:VEVENT
DTEND:20260319T120000
UID:69e6e540bafbd
DTSTAMP:20260421T024728
LOCATION:Aula A Campus scientifico via Torino (edificio Zeta)
SUMMARY:MACHINE LEARNING [CT0642] - VASCON SEBASTIANO\, Lezione
URL;VALUE=URI://www.unive.it/data/insegnamento/608440
DTSTART:20260319T103000
END:VEVENT
BEGIN:VEVENT
DTEND:20260403T153000
UID:69e6e540bb011
DTSTAMP:20260421T024728
LOCATION:Aula Epsilon 3 Campus scientifico via Torino (edificio Epsilon)
SUMMARY:MACHINE LEARNING [CT0642] - VASCON SEBASTIANO\, Lezione
URL;VALUE=URI://www.unive.it/data/insegnamento/608440
DTSTART:20260403T140000
END:VEVENT
BEGIN:VEVENT
DTEND:20260403T171500
UID:69e6e540bb066
DTSTAMP:20260421T024728
LOCATION:Aula Epsilon 3 Campus scientifico via Torino (edificio Epsilon)
SUMMARY:MACHINE LEARNING [CT0642] - VASCON SEBASTIANO\, Lezione
URL;VALUE=URI://www.unive.it/data/insegnamento/608440
DTSTART:20260403T154500
END:VEVENT
BEGIN:VEVENT
DTEND:20260407T120000
UID:69e6e540bb0ba
DTSTAMP:20260421T024728
LOCATION:Aula Epsilon 3 Campus scientifico via Torino (edificio Epsilon)
SUMMARY:MACHINE LEARNING [CT0642] - VASCON SEBASTIANO\, Lezione
URL;VALUE=URI://www.unive.it/data/insegnamento/608440
DTSTART:20260407T103000
END:VEVENT
BEGIN:VEVENT
DTEND:20260408T134500
UID:69e6e540bb10e
DTSTAMP:20260421T024728
LOCATION:Aula Epsilon 1 Campus scientifico via Torino (edificio Epsilon)
SUMMARY:MACHINE LEARNING [CT0642] - VASCON SEBASTIANO\, Lezione
URL;VALUE=URI://www.unive.it/data/insegnamento/608440
DTSTART:20260408T121500
END:VEVENT
BEGIN:VEVENT
DTEND:20260410T153000
UID:69e6e540bb163
DTSTAMP:20260421T024728
LOCATION:Aula Epsilon 3 Campus scientifico via Torino (edificio Epsilon)
SUMMARY:MACHINE LEARNING [CT0642] - VASCON SEBASTIANO\, Lezione
URL;VALUE=URI://www.unive.it/data/insegnamento/608440
DTSTART:20260410T140000
END:VEVENT
BEGIN:VEVENT
DTEND:20260414T120000
UID:69e6e540bb1b7
DTSTAMP:20260421T024728
LOCATION:Aula Epsilon 3 Campus scientifico via Torino (edificio Epsilon)
SUMMARY:MACHINE LEARNING [CT0642] - VASCON SEBASTIANO\, Lezione
URL;VALUE=URI://www.unive.it/data/insegnamento/608440
DTSTART:20260414T103000
END:VEVENT
BEGIN:VEVENT
DTEND:20260415T134500
UID:69e6e540bb20c
DTSTAMP:20260421T024728
LOCATION:Aula Epsilon 1 Campus scientifico via Torino (edificio Epsilon)
SUMMARY:MACHINE LEARNING [CT0642] - VASCON SEBASTIANO\, Lezione
URL;VALUE=URI://www.unive.it/data/insegnamento/608440
DTSTART:20260415T121500
END:VEVENT
BEGIN:VEVENT
DTEND:20260416T153000
UID:69e6e540bb263
DTSTAMP:20260421T024728
LOCATION:Aula A Campus scientifico via Torino (edificio Zeta)
SUMMARY:MACHINE LEARNING [CT0642] - VASCON SEBASTIANO\, Lezione
URL;VALUE=URI://www.unive.it/data/insegnamento/608440
DTSTART:20260416T140000
END:VEVENT
BEGIN:VEVENT
DTEND:20260417T153000
UID:69e6e540bb2b8
DTSTAMP:20260421T024728
LOCATION:Aula Epsilon 1 Campus scientifico via Torino (edificio Epsilon)
SUMMARY:MACHINE LEARNING [CT0642] - VASCON SEBASTIANO\, Lezione
URL;VALUE=URI://www.unive.it/data/insegnamento/608440
DTSTART:20260417T140000
END:VEVENT
BEGIN:VEVENT
DTEND:20260421T120000
UID:69e6e540bb30c
DTSTAMP:20260421T024728
LOCATION:Aula Epsilon 3 Campus scientifico via Torino (edificio Epsilon)
SUMMARY:MACHINE LEARNING [CT0642] - VASCON SEBASTIANO\, Lezione
URL;VALUE=URI://www.unive.it/data/insegnamento/608440
DTSTART:20260421T103000
END:VEVENT
BEGIN:VEVENT
DTEND:20260422T134500
UID:69e6e540bb360
DTSTAMP:20260421T024728
LOCATION:Aula Epsilon 1 Campus scientifico via Torino (edificio Epsilon)
SUMMARY:MACHINE LEARNING [CT0642] - VASCON SEBASTIANO\, Lezione
URL;VALUE=URI://www.unive.it/data/insegnamento/608440
DTSTART:20260422T121500
END:VEVENT
BEGIN:VEVENT
DTEND:20260424T153000
UID:69e6e540bb3b4
DTSTAMP:20260421T024728
LOCATION:Aula Epsilon 1 Campus scientifico via Torino (edificio Epsilon)
SUMMARY:MACHINE LEARNING [CT0642] - VASCON SEBASTIANO\, Lezione
URL;VALUE=URI://www.unive.it/data/insegnamento/608440
DTSTART:20260424T140000
END:VEVENT
BEGIN:VEVENT
DTEND:20260424T171500
UID:69e6e540bb409
DTSTAMP:20260421T024728
LOCATION:Aula Epsilon 1 Campus scientifico via Torino (edificio Epsilon)
SUMMARY:MACHINE LEARNING [CT0642] - VASCON SEBASTIANO\, Lezione
URL;VALUE=URI://www.unive.it/data/insegnamento/608440
DTSTART:20260424T154500
END:VEVENT
BEGIN:VEVENT
DTEND:20260428T120000
UID:69e6e540bb45d
DTSTAMP:20260421T024728
LOCATION:Aula Epsilon 3 Campus scientifico via Torino (edificio Epsilon)
SUMMARY:MACHINE LEARNING [CT0642] - VASCON SEBASTIANO\, Lezione
URL;VALUE=URI://www.unive.it/data/insegnamento/608440
DTSTART:20260428T103000
END:VEVENT
BEGIN:VEVENT
DTEND:20260429T134500
UID:69e6e540bb4b1
DTSTAMP:20260421T024728
LOCATION:Aula Epsilon 1 Campus scientifico via Torino (edificio Epsilon)
SUMMARY:MACHINE LEARNING [CT0642] - VASCON SEBASTIANO\, Lezione
URL;VALUE=URI://www.unive.it/data/insegnamento/608440
DTSTART:20260429T121500
END:VEVENT
BEGIN:VEVENT
DTEND:20260505T120000
UID:69e6e540bb511
DTSTAMP:20260421T024728
LOCATION:Aula Epsilon 3 Campus scientifico via Torino (edificio Epsilon)
SUMMARY:MACHINE LEARNING [CT0642] - VASCON SEBASTIANO\, Lezione
URL;VALUE=URI://www.unive.it/data/insegnamento/608440
DTSTART:20260505T103000
END:VEVENT
BEGIN:VEVENT
DTEND:20260506T134500
UID:69e6e540bb568
DTSTAMP:20260421T024728
LOCATION:Aula Epsilon 1 Campus scientifico via Torino (edificio Epsilon)
SUMMARY:MACHINE LEARNING [CT0642] - VASCON SEBASTIANO\, Lezione
URL;VALUE=URI://www.unive.it/data/insegnamento/608440
DTSTART:20260506T121500
END:VEVENT
BEGIN:VEVENT
DTEND:20260508T153000
UID:69e6e540bb5bf
DTSTAMP:20260421T024728
LOCATION:Aula Epsilon 1 Campus scientifico via Torino (edificio Epsilon)
SUMMARY:MACHINE LEARNING [CT0642] - VASCON SEBASTIANO\, Lezione
URL;VALUE=URI://www.unive.it/data/insegnamento/608440
DTSTART:20260508T140000
END:VEVENT
BEGIN:VEVENT
DTEND:20260512T120000
UID:69e6e540bb615
DTSTAMP:20260421T024728
LOCATION:Aula Epsilon 3 Campus scientifico via Torino (edificio Epsilon)
SUMMARY:MACHINE LEARNING [CT0642] - VASCON SEBASTIANO\, Lezione
URL;VALUE=URI://www.unive.it/data/insegnamento/608440
DTSTART:20260512T103000
END:VEVENT
BEGIN:VEVENT
DTEND:20260513T134500
UID:69e6e540bb660
DTSTAMP:20260421T024728
LOCATION:Aula Epsilon 1 Campus scientifico via Torino (edificio Epsilon)
SUMMARY:MACHINE LEARNING [CT0642] - VASCON SEBASTIANO\, Lezione
URL;VALUE=URI://www.unive.it/data/insegnamento/608440
DTSTART:20260513T121500
END:VEVENT
END:VCALENDAR