BEGIN:VCALENDAR
VERSION:2.0
PRODID:-//hacksw/handcal//NONSGML v1.0//EN
CALSCALE:GREGORIAN
X-WR-CALNAME:SECURITY [CT0657]
DESCRIPTION:SECURITY [CT0657]
REFRESH-INTERVAL;VALUE=DURATION:P1D
X-WR-TIMEZONE:Europe/Rome
BEGIN:VEVENT
DTEND:20251002T171500
UID:69e8281e91bf8
DTSTAMP:20260422T014502
LOCATION:Aula Delta 2A Campus scientifico via Torino (edificio Delta)
SUMMARY:SECURITY [CT0657] - FOCARDI Riccardo\, Lezione
URL;VALUE=URI://www.unive.it/data/insegnamento/608545
DTSTART:20251002T154500
END:VEVENT
BEGIN:VEVENT
DTEND:20251003T171500
UID:69e8281e91c79
DTSTAMP:20260422T014502
LOCATION:Aula Delta 2A Campus scientifico via Torino (edificio Delta)
SUMMARY:SECURITY [CT0657] - FOCARDI Riccardo\, Lezione
URL;VALUE=URI://www.unive.it/data/insegnamento/608545
DTSTART:20251003T154500
END:VEVENT
BEGIN:VEVENT
DTEND:20251009T171500
UID:69e8281e91ccc
DTSTAMP:20260422T014502
LOCATION:Aula Delta 2A Campus scientifico via Torino (edificio Delta)
SUMMARY:SECURITY [CT0657] - FOCARDI Riccardo\, Lezione
URL;VALUE=URI://www.unive.it/data/insegnamento/608545
DTSTART:20251009T154500
END:VEVENT
BEGIN:VEVENT
DTEND:20251010T171500
UID:69e8281e91d1d
DTSTAMP:20260422T014502
LOCATION:Aula Delta 2A Campus scientifico via Torino (edificio Delta)
SUMMARY:SECURITY [CT0657] - FOCARDI Riccardo\, Lezione
URL;VALUE=URI://www.unive.it/data/insegnamento/608545
DTSTART:20251010T154500
END:VEVENT
BEGIN:VEVENT
DTEND:20251016T171500
UID:69e8281e91d69
DTSTAMP:20260422T014502
LOCATION:Aula Delta 2A Campus scientifico via Torino (edificio Delta)
SUMMARY:SECURITY [CT0657] - FOCARDI Riccardo\, Lezione
URL;VALUE=URI://www.unive.it/data/insegnamento/608545
DTSTART:20251016T154500
END:VEVENT
BEGIN:VEVENT
DTEND:20251017T171500
UID:69e8281e91db5
DTSTAMP:20260422T014502
LOCATION:Aula Delta 2A Campus scientifico via Torino (edificio Delta)
SUMMARY:SECURITY [CT0657] - FOCARDI Riccardo\, Lezione
URL;VALUE=URI://www.unive.it/data/insegnamento/608545
DTSTART:20251017T154500
END:VEVENT
BEGIN:VEVENT
DTEND:20251023T171500
UID:69e8281e91dff
DTSTAMP:20260422T014502
LOCATION:Aula Delta 2A Campus scientifico via Torino (edificio Delta)
SUMMARY:SECURITY [CT0657] - FOCARDI Riccardo\, Lezione
URL;VALUE=URI://www.unive.it/data/insegnamento/608545
DTSTART:20251023T154500
END:VEVENT
BEGIN:VEVENT
DTEND:20251024T171500
UID:69e8281e91e31
DTSTAMP:20260422T014502
LOCATION:Aula Delta 2A Campus scientifico via Torino (edificio Delta)
SUMMARY:SECURITY [CT0657] - FOCARDI Riccardo\, Lezione
URL;VALUE=URI://www.unive.it/data/insegnamento/608545
DTSTART:20251024T154500
END:VEVENT
BEGIN:VEVENT
DTEND:20251030T171500
UID:69e8281e91e7c
DTSTAMP:20260422T014502
LOCATION:Aula Delta 2A Campus scientifico via Torino (edificio Delta)
SUMMARY:SECURITY [CT0657] - FOCARDI Riccardo\, Lezione
URL;VALUE=URI://www.unive.it/data/insegnamento/608545
DTSTART:20251030T154500
END:VEVENT
BEGIN:VEVENT
DTEND:20251031T171500
UID:69e8281e91ec7
DTSTAMP:20260422T014502
LOCATION:Aula Delta 2A Campus scientifico via Torino (edificio Delta)
SUMMARY:SECURITY [CT0657] - FOCARDI Riccardo\, Lezione
URL;VALUE=URI://www.unive.it/data/insegnamento/608545
DTSTART:20251031T154500
END:VEVENT
BEGIN:VEVENT
DTEND:20251106T171500
UID:69e8281e91f11
DTSTAMP:20260422T014502
LOCATION:Aula Delta 2A Campus scientifico via Torino (edificio Delta)
SUMMARY:SECURITY [CT0657] - FOCARDI Riccardo\, Lezione
URL;VALUE=URI://www.unive.it/data/insegnamento/608545
DTSTART:20251106T154500
END:VEVENT
BEGIN:VEVENT
DTEND:20251107T171500
UID:69e8281e91f5c
DTSTAMP:20260422T014502
LOCATION:Aula Delta 2A Campus scientifico via Torino (edificio Delta)
SUMMARY:SECURITY [CT0657] - FOCARDI Riccardo\, Lezione
URL;VALUE=URI://www.unive.it/data/insegnamento/608545
DTSTART:20251107T154500
END:VEVENT
BEGIN:VEVENT
DTEND:20251113T171500
UID:69e8281e91fa6
DTSTAMP:20260422T014502
LOCATION:Aula Delta 2A Campus scientifico via Torino (edificio Delta)
SUMMARY:SECURITY [CT0657] - FOCARDI Riccardo\, Lezione
URL;VALUE=URI://www.unive.it/data/insegnamento/608545
DTSTART:20251113T154500
END:VEVENT
BEGIN:VEVENT
DTEND:20251114T171500
UID:69e8281e91ff1
DTSTAMP:20260422T014502
LOCATION:Aula Delta 2A Campus scientifico via Torino (edificio Delta)
SUMMARY:SECURITY [CT0657] - FOCARDI Riccardo\, Lezione
URL;VALUE=URI://www.unive.it/data/insegnamento/608545
DTSTART:20251114T154500
END:VEVENT
BEGIN:VEVENT
DTEND:20251120T171500
UID:69e8281e9203b
DTSTAMP:20260422T014502
LOCATION:Aula Delta 2A Campus scientifico via Torino (edificio Delta)
SUMMARY:SECURITY [CT0657] - FOCARDI Riccardo\, Lezione
URL;VALUE=URI://www.unive.it/data/insegnamento/608545
DTSTART:20251120T154500
END:VEVENT
BEGIN:VEVENT
DTEND:20251127T171500
UID:69e8281e92087
DTSTAMP:20260422T014502
LOCATION:Aula Delta 2A Campus scientifico via Torino (edificio Delta)
SUMMARY:SECURITY [CT0657] - FOCARDI Riccardo\, Lezione
URL;VALUE=URI://www.unive.it/data/insegnamento/608545
DTSTART:20251127T154500
END:VEVENT
BEGIN:VEVENT
DTEND:20251128T171500
UID:69e8281e920d1
DTSTAMP:20260422T014502
LOCATION:Aula Delta 2A Campus scientifico via Torino (edificio Delta)
SUMMARY:SECURITY [CT0657] - FOCARDI Riccardo\, Lezione
URL;VALUE=URI://www.unive.it/data/insegnamento/608545
DTSTART:20251128T154500
END:VEVENT
BEGIN:VEVENT
DTEND:20251204T171500
UID:69e8281e9211c
DTSTAMP:20260422T014502
LOCATION:Aula Delta 2A Campus scientifico via Torino (edificio Delta)
SUMMARY:SECURITY [CT0657] - FOCARDI Riccardo\, Lezione
URL;VALUE=URI://www.unive.it/data/insegnamento/608545
DTSTART:20251204T154500
END:VEVENT
BEGIN:VEVENT
DTEND:20251205T171500
UID:69e8281e92166
DTSTAMP:20260422T014502
LOCATION:Aula Delta 2A Campus scientifico via Torino (edificio Delta)
SUMMARY:SECURITY [CT0657] - FOCARDI Riccardo\, Lezione
URL;VALUE=URI://www.unive.it/data/insegnamento/608545
DTSTART:20251205T154500
END:VEVENT
BEGIN:VEVENT
DTEND:20251211T171500
UID:69e8281e921b1
DTSTAMP:20260422T014502
LOCATION:Aula Delta 2A Campus scientifico via Torino (edificio Delta)
SUMMARY:SECURITY [CT0657] - FOCARDI Riccardo\, Lezione
URL;VALUE=URI://www.unive.it/data/insegnamento/608545
DTSTART:20251211T154500
END:VEVENT
BEGIN:VEVENT
DTEND:20251212T171500
UID:69e8281e921fb
DTSTAMP:20260422T014502
LOCATION:Aula Delta 2A Campus scientifico via Torino (edificio Delta)
SUMMARY:SECURITY [CT0657] - FOCARDI Riccardo\, Lezione
URL;VALUE=URI://www.unive.it/data/insegnamento/608545
DTSTART:20251212T154500
END:VEVENT
BEGIN:VEVENT
DTEND:20251218T171500
UID:69e8281e92220
DTSTAMP:20260422T014502
LOCATION:Aula Delta 2A Campus scientifico via Torino (edificio Delta)
SUMMARY:SECURITY [CT0657] - FOCARDI Riccardo\, Lezione
URL;VALUE=URI://www.unive.it/data/insegnamento/608545
DTSTART:20251218T154500
END:VEVENT
BEGIN:VEVENT
DTEND:20251219T171500
UID:69e8281e9226a
DTSTAMP:20260422T014502
LOCATION:Aula Delta 2A Campus scientifico via Torino (edificio Delta)
SUMMARY:SECURITY [CT0657] - FOCARDI Riccardo\, Lezione
URL;VALUE=URI://www.unive.it/data/insegnamento/608545
DTSTART:20251219T154500
END:VEVENT
END:VCALENDAR