BEGIN:VCALENDAR
VERSION:2.0
PRODID:-//hacksw/handcal//NONSGML v1.0//EN
CALSCALE:GREGORIAN
X-WR-CALNAME:ESERCITAZIONI DI LINGUA CINESE 3 MOD. 2B [LT009I]
DESCRIPTION:ESERCITAZIONI DI LINGUA CINESE 3 MOD. 2B [LT009I]
REFRESH-INTERVAL;VALUE=DURATION:P1D
X-WR-TIMEZONE:Europe/Rome
BEGIN:VEVENT
DTEND:20260223T120000
UID:69e777bd80926
DTSTAMP:20260421T131229
LOCATION:Aula MF4 Polo didattico San Basilio (MF - Magazzini Frigoriferi)
SUMMARY:ESERCITAZIONI DI LINGUA CINESE 3 MOD. 2B [LT009I] - LIU Ying\, Lezione
URL;VALUE=URI://www.unive.it/data/insegnamento/609793
DTSTART:20260223T103000
END:VEVENT
BEGIN:VEVENT
DTEND:20260224T134500
UID:69e777bd82c0d
DTSTAMP:20260421T131229
LOCATION:Aula MF6 Polo didattico San Basilio (MF - Magazzini Frigoriferi)
SUMMARY:ESERCITAZIONI DI LINGUA CINESE 3 MOD. 2B [LT009I] - LIU Ying\, Lezione
URL;VALUE=URI://www.unive.it/data/insegnamento/609793
DTSTART:20260224T121500
END:VEVENT
BEGIN:VEVENT
DTEND:20260302T120000
UID:69e777bd82ca5
DTSTAMP:20260421T131229
LOCATION:Aula MF4 Polo didattico San Basilio (MF - Magazzini Frigoriferi)
SUMMARY:ESERCITAZIONI DI LINGUA CINESE 3 MOD. 2B [LT009I] - LIU Ying\, Lezione
URL;VALUE=URI://www.unive.it/data/insegnamento/609793
DTSTART:20260302T103000
END:VEVENT
BEGIN:VEVENT
DTEND:20260309T120000
UID:69e777bd82d0c
DTSTAMP:20260421T131229
LOCATION:Aula MF4 Polo didattico San Basilio (MF - Magazzini Frigoriferi)
SUMMARY:ESERCITAZIONI DI LINGUA CINESE 3 MOD. 2B [LT009I] - LIU Ying\, Lezione
URL;VALUE=URI://www.unive.it/data/insegnamento/609793
DTSTART:20260309T103000
END:VEVENT
BEGIN:VEVENT
DTEND:20260310T134500
UID:69e777bd82d73
DTSTAMP:20260421T131229
LOCATION:Aula MF6 Polo didattico San Basilio (MF - Magazzini Frigoriferi)
SUMMARY:ESERCITAZIONI DI LINGUA CINESE 3 MOD. 2B [LT009I] - LIU Ying\, Lezione
URL;VALUE=URI://www.unive.it/data/insegnamento/609793
DTSTART:20260310T121500
END:VEVENT
BEGIN:VEVENT
DTEND:20260316T120000
UID:69e777bd82dd7
DTSTAMP:20260421T131229
LOCATION:Aula MF4 Polo didattico San Basilio (MF - Magazzini Frigoriferi)
SUMMARY:ESERCITAZIONI DI LINGUA CINESE 3 MOD. 2B [LT009I] - LIU Ying\, Lezione
URL;VALUE=URI://www.unive.it/data/insegnamento/609793
DTSTART:20260316T103000
END:VEVENT
BEGIN:VEVENT
DTEND:20260317T134500
UID:69e777bd82e3e
DTSTAMP:20260421T131229
LOCATION:Aula MF6 Polo didattico San Basilio (MF - Magazzini Frigoriferi)
SUMMARY:ESERCITAZIONI DI LINGUA CINESE 3 MOD. 2B [LT009I] - LIU Ying\, Lezione
URL;VALUE=URI://www.unive.it/data/insegnamento/609793
DTSTART:20260317T121500
END:VEVENT
BEGIN:VEVENT
DTEND:20260323T120000
UID:69e777bd82ea0
DTSTAMP:20260421T131229
LOCATION:Aula MF4 Polo didattico San Basilio (MF - Magazzini Frigoriferi)
SUMMARY:ESERCITAZIONI DI LINGUA CINESE 3 MOD. 2B [LT009I] - LIU Ying\, Lezione
URL;VALUE=URI://www.unive.it/data/insegnamento/609793
DTSTART:20260323T103000
END:VEVENT
BEGIN:VEVENT
DTEND:20260324T134500
UID:69e777bd82f07
DTSTAMP:20260421T131229
LOCATION:Aula MF6 Polo didattico San Basilio (MF - Magazzini Frigoriferi)
SUMMARY:ESERCITAZIONI DI LINGUA CINESE 3 MOD. 2B [LT009I] - LIU Ying\, Lezione
URL;VALUE=URI://www.unive.it/data/insegnamento/609793
DTSTART:20260324T121500
END:VEVENT
BEGIN:VEVENT
DTEND:20260330T120000
UID:69e777bd82f6c
DTSTAMP:20260421T131229
LOCATION:Aula MF4 Polo didattico San Basilio (MF - Magazzini Frigoriferi)
SUMMARY:ESERCITAZIONI DI LINGUA CINESE 3 MOD. 2B [LT009I] - LIU Ying\, Lezione
URL;VALUE=URI://www.unive.it/data/insegnamento/609793
DTSTART:20260330T103000
END:VEVENT
BEGIN:VEVENT
DTEND:20260331T134500
UID:69e777bd82fd0
DTSTAMP:20260421T131229
LOCATION:Aula MF6 Polo didattico San Basilio (MF - Magazzini Frigoriferi)
SUMMARY:ESERCITAZIONI DI LINGUA CINESE 3 MOD. 2B [LT009I] - LIU Ying\, Lezione
URL;VALUE=URI://www.unive.it/data/insegnamento/609793
DTSTART:20260331T121500
END:VEVENT
BEGIN:VEVENT
DTEND:20260407T134500
UID:69e777bd8303f
DTSTAMP:20260421T131229
LOCATION:Aula MF6 Polo didattico San Basilio (MF - Magazzini Frigoriferi)
SUMMARY:ESERCITAZIONI DI LINGUA CINESE 3 MOD. 2B [LT009I] - LIU Ying\, Lezione
URL;VALUE=URI://www.unive.it/data/insegnamento/609793
DTSTART:20260407T121500
END:VEVENT
BEGIN:VEVENT
DTEND:20260413T120000
UID:69e777bd830a5
DTSTAMP:20260421T131229
LOCATION:Aula MF4 Polo didattico San Basilio (MF - Magazzini Frigoriferi)
SUMMARY:ESERCITAZIONI DI LINGUA CINESE 3 MOD. 2B [LT009I] - LIU Ying\, Lezione
URL;VALUE=URI://www.unive.it/data/insegnamento/609793
DTSTART:20260413T103000
END:VEVENT
BEGIN:VEVENT
DTEND:20260414T134500
UID:69e777bd8310d
DTSTAMP:20260421T131229
LOCATION:Aula MF6 Polo didattico San Basilio (MF - Magazzini Frigoriferi)
SUMMARY:ESERCITAZIONI DI LINGUA CINESE 3 MOD. 2B [LT009I] - LIU Ying\, Lezione
URL;VALUE=URI://www.unive.it/data/insegnamento/609793
DTSTART:20260414T121500
END:VEVENT
BEGIN:VEVENT
DTEND:20260420T120000
UID:69e777bd83171
DTSTAMP:20260421T131229
LOCATION:Aula MF4 Polo didattico San Basilio (MF - Magazzini Frigoriferi)
SUMMARY:ESERCITAZIONI DI LINGUA CINESE 3 MOD. 2B [LT009I] - LIU Ying\, Lezione
URL;VALUE=URI://www.unive.it/data/insegnamento/609793
DTSTART:20260420T103000
END:VEVENT
BEGIN:VEVENT
DTEND:20260421T134500
UID:69e777bd831d4
DTSTAMP:20260421T131229
LOCATION:Aula MF6 Polo didattico San Basilio (MF - Magazzini Frigoriferi)
SUMMARY:ESERCITAZIONI DI LINGUA CINESE 3 MOD. 2B [LT009I] - LIU Ying\, Lezione
URL;VALUE=URI://www.unive.it/data/insegnamento/609793
DTSTART:20260421T121500
END:VEVENT
BEGIN:VEVENT
DTEND:20260427T120000
UID:69e777bd83238
DTSTAMP:20260421T131229
LOCATION:Aula MF4 Polo didattico San Basilio (MF - Magazzini Frigoriferi)
SUMMARY:ESERCITAZIONI DI LINGUA CINESE 3 MOD. 2B [LT009I] - LIU Ying\, Lezione
URL;VALUE=URI://www.unive.it/data/insegnamento/609793
DTSTART:20260427T103000
END:VEVENT
BEGIN:VEVENT
DTEND:20260428T134500
UID:69e777bd8329d
DTSTAMP:20260421T131229
LOCATION:Aula MF6 Polo didattico San Basilio (MF - Magazzini Frigoriferi)
SUMMARY:ESERCITAZIONI DI LINGUA CINESE 3 MOD. 2B [LT009I] - LIU Ying\, Lezione
URL;VALUE=URI://www.unive.it/data/insegnamento/609793
DTSTART:20260428T121500
END:VEVENT
BEGIN:VEVENT
DTEND:20260504T120000
UID:69e777bd83303
DTSTAMP:20260421T131229
LOCATION:Aula MF4 Polo didattico San Basilio (MF - Magazzini Frigoriferi)
SUMMARY:ESERCITAZIONI DI LINGUA CINESE 3 MOD. 2B [LT009I] - LIU Ying\, Lezione
URL;VALUE=URI://www.unive.it/data/insegnamento/609793
DTSTART:20260504T103000
END:VEVENT
BEGIN:VEVENT
DTEND:20260505T134500
UID:69e777bd83369
DTSTAMP:20260421T131229
LOCATION:Aula MF6 Polo didattico San Basilio (MF - Magazzini Frigoriferi)
SUMMARY:ESERCITAZIONI DI LINGUA CINESE 3 MOD. 2B [LT009I] - LIU Ying\, Lezione
URL;VALUE=URI://www.unive.it/data/insegnamento/609793
DTSTART:20260505T121500
END:VEVENT
BEGIN:VEVENT
DTEND:20260511T120000
UID:69e777bd833d7
DTSTAMP:20260421T131229
LOCATION:Aula MF4 Polo didattico San Basilio (MF - Magazzini Frigoriferi)
SUMMARY:ESERCITAZIONI DI LINGUA CINESE 3 MOD. 2B [LT009I] - LIU Ying\, Lezione
URL;VALUE=URI://www.unive.it/data/insegnamento/609793
DTSTART:20260511T103000
END:VEVENT
BEGIN:VEVENT
DTEND:20260512T134500
UID:69e777bd83443
DTSTAMP:20260421T131229
LOCATION:Aula MF6 Polo didattico San Basilio (MF - Magazzini Frigoriferi)
SUMMARY:ESERCITAZIONI DI LINGUA CINESE 3 MOD. 2B [LT009I] - LIU Ying\, Lezione
URL;VALUE=URI://www.unive.it/data/insegnamento/609793
DTSTART:20260512T121500
END:VEVENT
BEGIN:VEVENT
DTEND:20260518T120000
UID:69e777bd834a9
DTSTAMP:20260421T131229
LOCATION:Aula MF4 Polo didattico San Basilio (MF - Magazzini Frigoriferi)
SUMMARY:ESERCITAZIONI DI LINGUA CINESE 3 MOD. 2B [LT009I] - LIU Ying\, Lezione
URL;VALUE=URI://www.unive.it/data/insegnamento/609793
DTSTART:20260518T103000
END:VEVENT
BEGIN:VEVENT
DTEND:20260519T134500
UID:69e777bd8350b
DTSTAMP:20260421T131229
LOCATION:Aula MF6 Polo didattico San Basilio (MF - Magazzini Frigoriferi)
SUMMARY:ESERCITAZIONI DI LINGUA CINESE 3 MOD. 2B [LT009I] - LIU Ying\, Lezione
URL;VALUE=URI://www.unive.it/data/insegnamento/609793
DTSTART:20260519T121500
END:VEVENT
BEGIN:VEVENT
DTEND:20260525T120000
UID:69e777bd83570
DTSTAMP:20260421T131229
LOCATION:Aula MF4 Polo didattico San Basilio (MF - Magazzini Frigoriferi)
SUMMARY:ESERCITAZIONI DI LINGUA CINESE 3 MOD. 2B [LT009I] - LIU Ying\, Lezione
URL;VALUE=URI://www.unive.it/data/insegnamento/609793
DTSTART:20260525T103000
END:VEVENT
BEGIN:VEVENT
DTEND:20260526T134500
UID:69e777bd835d2
DTSTAMP:20260421T131229
LOCATION:Aula MF6 Polo didattico San Basilio (MF - Magazzini Frigoriferi)
SUMMARY:ESERCITAZIONI DI LINGUA CINESE 3 MOD. 2B [LT009I] - LIU Ying\, Lezione
URL;VALUE=URI://www.unive.it/data/insegnamento/609793
DTSTART:20260526T121500
END:VEVENT
END:VCALENDAR