BEGIN:VCALENDAR
VERSION:2.0
PRODID:-//hacksw/handcal//NONSGML v1.0//EN
CALSCALE:GREGORIAN
X-WR-CALNAME:ECONOMIA SANITARIA [EM1111]
DESCRIPTION:ECONOMIA SANITARIA [EM1111]
REFRESH-INTERVAL;VALUE=DURATION:P1D
X-WR-TIMEZONE:Europe/Rome
BEGIN:VEVENT
DTEND:20250923T153000
UID:69e95fa480937
DTSTAMP:20260422T235412
LOCATION:Aula 9C San Giobbe
SUMMARY:ECONOMIA SANITARIA [EM1111] - CRODA Enrica\, Lezione
URL;VALUE=URI://www.unive.it/data/insegnamento/610391
DTSTART:20250923T140000
END:VEVENT
BEGIN:VEVENT
DTEND:20250925T153000
UID:69e95fa4809c5
DTSTAMP:20260422T235412
LOCATION:Aula 9C San Giobbe
SUMMARY:ECONOMIA SANITARIA [EM1111] - CRODA Enrica\, Lezione
URL;VALUE=URI://www.unive.it/data/insegnamento/610391
DTSTART:20250925T140000
END:VEVENT
BEGIN:VEVENT
DTEND:20250926T153000
UID:69e95fa480a15
DTSTAMP:20260422T235412
LOCATION:Aula 9C San Giobbe
SUMMARY:ECONOMIA SANITARIA [EM1111] - CRODA Enrica\, Lezione
URL;VALUE=URI://www.unive.it/data/insegnamento/610391
DTSTART:20250926T140000
END:VEVENT
BEGIN:VEVENT
DTEND:20250930T153000
UID:69e95fa480a65
DTSTAMP:20260422T235412
LOCATION:Aula 9C San Giobbe
SUMMARY:ECONOMIA SANITARIA [EM1111] - CRODA Enrica\, Lezione
URL;VALUE=URI://www.unive.it/data/insegnamento/610391
DTSTART:20250930T140000
END:VEVENT
BEGIN:VEVENT
DTEND:20251002T153000
UID:69e95fa480ab1
DTSTAMP:20260422T235412
LOCATION:Aula 9C San Giobbe
SUMMARY:ECONOMIA SANITARIA [EM1111] - CRODA Enrica\, Lezione
URL;VALUE=URI://www.unive.it/data/insegnamento/610391
DTSTART:20251002T140000
END:VEVENT
BEGIN:VEVENT
DTEND:20251003T153000
UID:69e95fa480afd
DTSTAMP:20260422T235412
LOCATION:Aula 9C San Giobbe
SUMMARY:ECONOMIA SANITARIA [EM1111] - CRODA Enrica\, Lezione
URL;VALUE=URI://www.unive.it/data/insegnamento/610391
DTSTART:20251003T140000
END:VEVENT
BEGIN:VEVENT
DTEND:20251007T153000
UID:69e95fa480b47
DTSTAMP:20260422T235412
LOCATION:Aula 9C San Giobbe
SUMMARY:ECONOMIA SANITARIA [EM1111] - CRODA Enrica\, Lezione
URL;VALUE=URI://www.unive.it/data/insegnamento/610391
DTSTART:20251007T140000
END:VEVENT
BEGIN:VEVENT
DTEND:20251009T153000
UID:69e95fa480b91
DTSTAMP:20260422T235412
LOCATION:Aula 9C San Giobbe
SUMMARY:ECONOMIA SANITARIA [EM1111] - CRODA Enrica\, Lezione
URL;VALUE=URI://www.unive.it/data/insegnamento/610391
DTSTART:20251009T140000
END:VEVENT
BEGIN:VEVENT
DTEND:20251010T153000
UID:69e95fa480bda
DTSTAMP:20260422T235412
LOCATION:Aula 9C San Giobbe
SUMMARY:ECONOMIA SANITARIA [EM1111] - CRODA Enrica\, Lezione
URL;VALUE=URI://www.unive.it/data/insegnamento/610391
DTSTART:20251010T140000
END:VEVENT
BEGIN:VEVENT
DTEND:20251014T153000
UID:69e95fa480c25
DTSTAMP:20260422T235412
LOCATION:Aula 9C San Giobbe
SUMMARY:ECONOMIA SANITARIA [EM1111] - CRODA Enrica\, Lezione
URL;VALUE=URI://www.unive.it/data/insegnamento/610391
DTSTART:20251014T140000
END:VEVENT
BEGIN:VEVENT
DTEND:20251016T153000
UID:69e95fa480c70
DTSTAMP:20260422T235412
LOCATION:Aula 9C San Giobbe
SUMMARY:ECONOMIA SANITARIA [EM1111] - CRODA Enrica\, Lezione
URL;VALUE=URI://www.unive.it/data/insegnamento/610391
DTSTART:20251016T140000
END:VEVENT
BEGIN:VEVENT
DTEND:20251017T153000
UID:69e95fa480cbe
DTSTAMP:20260422T235412
LOCATION:Aula 9C San Giobbe
SUMMARY:ECONOMIA SANITARIA [EM1111] - CRODA Enrica\, Lezione
URL;VALUE=URI://www.unive.it/data/insegnamento/610391
DTSTART:20251017T140000
END:VEVENT
BEGIN:VEVENT
DTEND:20251021T153000
UID:69e95fa480d08
DTSTAMP:20260422T235412
LOCATION:Aula 9C San Giobbe
SUMMARY:ECONOMIA SANITARIA [EM1111] - CRODA Enrica\, Lezione
URL;VALUE=URI://www.unive.it/data/insegnamento/610391
DTSTART:20251021T140000
END:VEVENT
BEGIN:VEVENT
DTEND:20251028T153000
UID:69e95fa480d53
DTSTAMP:20260422T235412
LOCATION:Aula 9C San Giobbe
SUMMARY:ECONOMIA SANITARIA [EM1111] - CRODA Enrica\, Lezione
URL;VALUE=URI://www.unive.it/data/insegnamento/610391
DTSTART:20251028T140000
END:VEVENT
BEGIN:VEVENT
DTEND:20251030T153000
UID:69e95fa480d9c
DTSTAMP:20260422T235412
LOCATION:Aula 9C San Giobbe
SUMMARY:ECONOMIA SANITARIA [EM1111] - CRODA Enrica\, Lezione
URL;VALUE=URI://www.unive.it/data/insegnamento/610391
DTSTART:20251030T140000
END:VEVENT
BEGIN:VEVENT
DTEND:20251031T153000
UID:69e95fa480de5
DTSTAMP:20260422T235412
LOCATION:Aula 9C San Giobbe
SUMMARY:ECONOMIA SANITARIA [EM1111] - CRODA Enrica\, Lezione
URL;VALUE=URI://www.unive.it/data/insegnamento/610391
DTSTART:20251031T140000
END:VEVENT
END:VCALENDAR