BEGIN:VCALENDAR
VERSION:2.0
PRODID:-//hacksw/handcal//NONSGML v1.0//EN
CALSCALE:GREGORIAN
X-WR-CALNAME:COMPARATIVE SYNTAX [LM5460]
DESCRIPTION:COMPARATIVE SYNTAX [LM5460]
REFRESH-INTERVAL;VALUE=DURATION:P1D
X-WR-TIMEZONE:Europe/Rome
BEGIN:VEVENT
DTEND:20250924T120000
UID:69e91f2583dfc
DTSTAMP:20260422T191901
LOCATION:Aula C Ca' Bembo
SUMMARY:COMPARATIVE SYNTAX [LM5460] - GIUSTI Giuliana\, Lezione
URL;VALUE=URI://www.unive.it/data/insegnamento/623001
DTSTART:20250924T103000
END:VEVENT
BEGIN:VEVENT
DTEND:20251001T120000
UID:69e91f2583e8c
DTSTAMP:20260422T191901
LOCATION:Aula C Ca' Bembo
SUMMARY:COMPARATIVE SYNTAX [LM5460] - GIUSTI Giuliana\, Lezione
URL;VALUE=URI://www.unive.it/data/insegnamento/623001
DTSTART:20251001T103000
END:VEVENT
BEGIN:VEVENT
DTEND:20251008T120000
UID:69e91f2583edf
DTSTAMP:20260422T191901
LOCATION:Aula C Ca' Bembo
SUMMARY:COMPARATIVE SYNTAX [LM5460] - GIUSTI Giuliana\, Lezione
URL;VALUE=URI://www.unive.it/data/insegnamento/623001
DTSTART:20251008T103000
END:VEVENT
BEGIN:VEVENT
DTEND:20251015T120000
UID:69e91f2583f2e
DTSTAMP:20260422T191901
LOCATION:Aula C Ca' Bembo
SUMMARY:COMPARATIVE SYNTAX [LM5460] - GIUSTI Giuliana\, Lezione
URL;VALUE=URI://www.unive.it/data/insegnamento/623001
DTSTART:20251015T103000
END:VEVENT
BEGIN:VEVENT
DTEND:20251022T120000
UID:69e91f2583f7a
DTSTAMP:20260422T191901
LOCATION:Aula C Ca' Bembo
SUMMARY:COMPARATIVE SYNTAX [LM5460] - GIUSTI Giuliana\, Lezione
URL;VALUE=URI://www.unive.it/data/insegnamento/623001
DTSTART:20251022T103000
END:VEVENT
BEGIN:VEVENT
DTEND:20251028T153000
UID:69e91f2583fcf
DTSTAMP:20260422T191901
LOCATION:ALTRO Altro
SUMMARY:COMPARATIVE SYNTAX [LM5460] - GIUSTI Giuliana\, Lezione
URL;VALUE=URI://www.unive.it/data/insegnamento/623001
DTSTART:20251028T140000
END:VEVENT
BEGIN:VEVENT
DTEND:20251105T120000
UID:69e91f2584018
DTSTAMP:20260422T191901
LOCATION:Aula C Ca' Bembo
SUMMARY:COMPARATIVE SYNTAX [LM5460] - GIUSTI Giuliana\, Lezione
URL;VALUE=URI://www.unive.it/data/insegnamento/623001
DTSTART:20251105T103000
END:VEVENT
BEGIN:VEVENT
DTEND:20251112T120000
UID:69e91f2584061
DTSTAMP:20260422T191901
LOCATION:Aula C Ca' Bembo
SUMMARY:COMPARATIVE SYNTAX [LM5460] - GIUSTI Giuliana\, Lezione
URL;VALUE=URI://www.unive.it/data/insegnamento/623001
DTSTART:20251112T103000
END:VEVENT
BEGIN:VEVENT
DTEND:20251119T120000
UID:69e91f25840ab
DTSTAMP:20260422T191901
LOCATION:ALTRO Altro
SUMMARY:COMPARATIVE SYNTAX [LM5460] - GIUSTI Giuliana\, Lezione
URL;VALUE=URI://www.unive.it/data/insegnamento/623001
DTSTART:20251119T103000
END:VEVENT
BEGIN:VEVENT
DTEND:20251126T120000
UID:69e91f25840f4
DTSTAMP:20260422T191901
LOCATION:ALTRO Altro
SUMMARY:COMPARATIVE SYNTAX [LM5460] - GIUSTI Giuliana\, Lezione
URL;VALUE=URI://www.unive.it/data/insegnamento/623001
DTSTART:20251126T103000
END:VEVENT
BEGIN:VEVENT
DTEND:20251203T120000
UID:69e91f258413d
DTSTAMP:20260422T191901
LOCATION:ALTRO Altro
SUMMARY:COMPARATIVE SYNTAX [LM5460] - GIUSTI Giuliana\, Lezione
URL;VALUE=URI://www.unive.it/data/insegnamento/623001
DTSTART:20251203T103000
END:VEVENT
BEGIN:VEVENT
DTEND:20251210T120000
UID:69e91f2584186
DTSTAMP:20260422T191901
LOCATION:ALTRO Altro
SUMMARY:COMPARATIVE SYNTAX [LM5460] - GIUSTI Giuliana\, Lezione
URL;VALUE=URI://www.unive.it/data/insegnamento/623001
DTSTART:20251210T103000
END:VEVENT
BEGIN:VEVENT
DTEND:20251217T120000
UID:69e91f25841cf
DTSTAMP:20260422T191901
LOCATION:Aula C Ca' Bembo
SUMMARY:COMPARATIVE SYNTAX [LM5460] - GIUSTI Giuliana\, Lezione
URL;VALUE=URI://www.unive.it/data/insegnamento/623001
DTSTART:20251217T103000
END:VEVENT
BEGIN:VEVENT
DTEND:20260114T120000
UID:69e91f2584219
DTSTAMP:20260422T191901
LOCATION:Aula C Ca' Bembo
SUMMARY:COMPARATIVE SYNTAX [LM5460] - GIUSTI Giuliana\, Lezione
URL;VALUE=URI://www.unive.it/data/insegnamento/623001
DTSTART:20260114T103000
END:VEVENT
BEGIN:VEVENT
DTEND:20260121T120000
UID:69e91f2584262
DTSTAMP:20260422T191901
LOCATION:Aula C Ca' Bembo
SUMMARY:COMPARATIVE SYNTAX [LM5460] - GIUSTI Giuliana\, Lezione
URL;VALUE=URI://www.unive.it/data/insegnamento/623001
DTSTART:20260121T103000
END:VEVENT
END:VCALENDAR