BEGIN:VCALENDAR
VERSION:2.0
PRODID:-//hacksw/handcal//NONSGML v1.0//EN
CALSCALE:GREGORIAN
X-WR-CALNAME:LINGUISTICA CLINICA MOD. 1 [LM3300]
DESCRIPTION:LINGUISTICA CLINICA MOD. 1 [LM3300]
REFRESH-INTERVAL;VALUE=DURATION:P1D
X-WR-TIMEZONE:Europe/Rome
BEGIN:VEVENT
DTEND:20251001T101500
UID:69e938f545a3e
DTSTAMP:20260422T210909
LOCATION:Aula Elena Cornaro Ca' Bembo
SUMMARY:LINGUISTICA CLINICA MOD. 1 [LM3300] - \, Lezione
URL;VALUE=URI://www.unive.it/data/insegnamento/623278
DTSTART:20251001T084500
END:VEVENT
BEGIN:VEVENT
DTEND:20251008T101500
UID:69e938f545ac3
DTSTAMP:20260422T210909
LOCATION:Aula Elena Cornaro Ca' Bembo
SUMMARY:LINGUISTICA CLINICA MOD. 1 [LM3300] - \, Lezione
URL;VALUE=URI://www.unive.it/data/insegnamento/623278
DTSTART:20251008T084500
END:VEVENT
BEGIN:VEVENT
DTEND:20251015T101500
UID:69e938f545b11
DTSTAMP:20260422T210909
LOCATION:Aula Elena Cornaro Ca' Bembo
SUMMARY:LINGUISTICA CLINICA MOD. 1 [LM3300] - \, Lezione
URL;VALUE=URI://www.unive.it/data/insegnamento/623278
DTSTART:20251015T084500
END:VEVENT
BEGIN:VEVENT
DTEND:20251022T101500
UID:69e938f545b5c
DTSTAMP:20260422T210909
LOCATION:Aula Elena Cornaro Ca' Bembo
SUMMARY:LINGUISTICA CLINICA MOD. 1 [LM3300] - \, Lezione
URL;VALUE=URI://www.unive.it/data/insegnamento/623278
DTSTART:20251022T084500
END:VEVENT
BEGIN:VEVENT
DTEND:20251029T101500
UID:69e938f545baf
DTSTAMP:20260422T210909
LOCATION:Aula Elena Cornaro Ca' Bembo
SUMMARY:LINGUISTICA CLINICA MOD. 1 [LM3300] - \, Lezione
URL;VALUE=URI://www.unive.it/data/insegnamento/623278
DTSTART:20251029T084500
END:VEVENT
BEGIN:VEVENT
DTEND:20251029T120000
UID:69e938f545bfb
DTSTAMP:20260422T210909
LOCATION:ALTRO Altro
SUMMARY:LINGUISTICA CLINICA MOD. 1 [LM3300] - SUOZZI ALICE\, Lezione
URL;VALUE=URI://www.unive.it/data/insegnamento/623278
DTSTART:20251029T103000
END:VEVENT
BEGIN:VEVENT
DTEND:20251105T101500
UID:69e938f545c45
DTSTAMP:20260422T210909
LOCATION:Aula Elena Cornaro Ca' Bembo
SUMMARY:LINGUISTICA CLINICA MOD. 1 [LM3300] - \, Lezione
URL;VALUE=URI://www.unive.it/data/insegnamento/623278
DTSTART:20251105T084500
END:VEVENT
BEGIN:VEVENT
DTEND:20251112T101500
UID:69e938f545c8f
DTSTAMP:20260422T210909
LOCATION:Aula Elena Cornaro Ca' Bembo
SUMMARY:LINGUISTICA CLINICA MOD. 1 [LM3300] - \, Lezione
URL;VALUE=URI://www.unive.it/data/insegnamento/623278
DTSTART:20251112T084500
END:VEVENT
BEGIN:VEVENT
DTEND:20251119T101500
UID:69e938f545cd9
DTSTAMP:20260422T210909
LOCATION:Aula Elena Cornaro Ca' Bembo
SUMMARY:LINGUISTICA CLINICA MOD. 1 [LM3300] - \, Lezione
URL;VALUE=URI://www.unive.it/data/insegnamento/623278
DTSTART:20251119T084500
END:VEVENT
BEGIN:VEVENT
DTEND:20251126T101500
UID:69e938f545d24
DTSTAMP:20260422T210909
LOCATION:Aula Elena Cornaro Ca' Bembo
SUMMARY:LINGUISTICA CLINICA MOD. 1 [LM3300] - \, Lezione
URL;VALUE=URI://www.unive.it/data/insegnamento/623278
DTSTART:20251126T084500
END:VEVENT
BEGIN:VEVENT
DTEND:20251203T101500
UID:69e938f545d6e
DTSTAMP:20260422T210909
LOCATION:Aula Elena Cornaro Ca' Bembo
SUMMARY:LINGUISTICA CLINICA MOD. 1 [LM3300] - \, Lezione
URL;VALUE=URI://www.unive.it/data/insegnamento/623278
DTSTART:20251203T084500
END:VEVENT
BEGIN:VEVENT
DTEND:20251210T101500
UID:69e938f545db8
DTSTAMP:20260422T210909
LOCATION:Aula Elena Cornaro Ca' Bembo
SUMMARY:LINGUISTICA CLINICA MOD. 1 [LM3300] - \, Lezione
URL;VALUE=URI://www.unive.it/data/insegnamento/623278
DTSTART:20251210T084500
END:VEVENT
BEGIN:VEVENT
DTEND:20251217T101500
UID:69e938f545e03
DTSTAMP:20260422T210909
LOCATION:Aula Elena Cornaro Ca' Bembo
SUMMARY:LINGUISTICA CLINICA MOD. 1 [LM3300] - \, Lezione
URL;VALUE=URI://www.unive.it/data/insegnamento/623278
DTSTART:20251217T084500
END:VEVENT
BEGIN:VEVENT
DTEND:20260114T101500
UID:69e938f545e4c
DTSTAMP:20260422T210909
LOCATION:Aula Elena Cornaro Ca' Bembo
SUMMARY:LINGUISTICA CLINICA MOD. 1 [LM3300] - \, Lezione
URL;VALUE=URI://www.unive.it/data/insegnamento/623278
DTSTART:20260114T084500
END:VEVENT
BEGIN:VEVENT
DTEND:20260121T101500
UID:69e938f545e96
DTSTAMP:20260422T210909
LOCATION:Aula Elena Cornaro Ca' Bembo
SUMMARY:LINGUISTICA CLINICA MOD. 1 [LM3300] - \, Lezione
URL;VALUE=URI://www.unive.it/data/insegnamento/623278
DTSTART:20260121T084500
END:VEVENT
END:VCALENDAR