BEGIN:VCALENDAR
VERSION:2.0
PRODID:-//hacksw/handcal//NONSGML v1.0//EN
CALSCALE:GREGORIAN
X-WR-CALNAME:PEDAGOGIA E DIDATTICA DELL'INCLUSIONE [LM5610]
DESCRIPTION:PEDAGOGIA E DIDATTICA DELL'INCLUSIONE [LM5610]
REFRESH-INTERVAL;VALUE=DURATION:P1D
X-WR-TIMEZONE:Europe/Rome
BEGIN:VEVENT
DTEND:20251110T134500
UID:69e925f7b4ce0
DTSTAMP:20260422T194807
LOCATION:Aula 8 Rio Novo
SUMMARY:PEDAGOGIA E DIDATTICA DELL'INCLUSIONE [LM5610] - BASCHIERA Barbara\, Lezione
URL;VALUE=URI://www.unive.it/data/insegnamento/623280
DTSTART:20251110T121500
END:VEVENT
BEGIN:VEVENT
DTEND:20251112T134500
UID:69e925f7b4d7e
DTSTAMP:20260422T194807
LOCATION:Sala Giovanni Morelli Malcanton Marcorà
SUMMARY:PEDAGOGIA E DIDATTICA DELL'INCLUSIONE [LM5610] - BASCHIERA Barbara\, Lezione
URL;VALUE=URI://www.unive.it/data/insegnamento/623280
DTSTART:20251112T121500
END:VEVENT
BEGIN:VEVENT
DTEND:20251114T134500
UID:69e925f7b4dd4
DTSTAMP:20260422T194807
LOCATION:Aula San Trovaso Aula San Trovaso
SUMMARY:PEDAGOGIA E DIDATTICA DELL'INCLUSIONE [LM5610] - BASCHIERA Barbara\, Lezione
URL;VALUE=URI://www.unive.it/data/insegnamento/623280
DTSTART:20251114T121500
END:VEVENT
BEGIN:VEVENT
DTEND:20251117T134500
UID:69e925f7b4e24
DTSTAMP:20260422T194807
LOCATION:Aula 8 Rio Novo
SUMMARY:PEDAGOGIA E DIDATTICA DELL'INCLUSIONE [LM5610] - BASCHIERA Barbara\, Lezione
URL;VALUE=URI://www.unive.it/data/insegnamento/623280
DTSTART:20251117T121500
END:VEVENT
BEGIN:VEVENT
DTEND:20251119T134500
UID:69e925f7b4e72
DTSTAMP:20260422T194807
LOCATION:Sala Giovanni Morelli Malcanton Marcorà
SUMMARY:PEDAGOGIA E DIDATTICA DELL'INCLUSIONE [LM5610] - BASCHIERA Barbara\, Lezione
URL;VALUE=URI://www.unive.it/data/insegnamento/623280
DTSTART:20251119T121500
END:VEVENT
BEGIN:VEVENT
DTEND:20251124T134500
UID:69e925f7b4ebd
DTSTAMP:20260422T194807
LOCATION:Aula MF4 Polo didattico San Basilio (MF - Magazzini Frigoriferi)
SUMMARY:PEDAGOGIA E DIDATTICA DELL'INCLUSIONE [LM5610] - BASCHIERA Barbara\, Lezione
URL;VALUE=URI://www.unive.it/data/insegnamento/623280
DTSTART:20251124T121500
END:VEVENT
BEGIN:VEVENT
DTEND:20251126T134500
UID:69e925f7b4f09
DTSTAMP:20260422T194807
LOCATION:Sala Giovanni Morelli Malcanton Marcorà
SUMMARY:PEDAGOGIA E DIDATTICA DELL'INCLUSIONE [LM5610] - BASCHIERA Barbara\, Lezione
URL;VALUE=URI://www.unive.it/data/insegnamento/623280
DTSTART:20251126T121500
END:VEVENT
BEGIN:VEVENT
DTEND:20251128T134500
UID:69e925f7b4f55
DTSTAMP:20260422T194807
LOCATION:Aula San Trovaso Aula San Trovaso
SUMMARY:PEDAGOGIA E DIDATTICA DELL'INCLUSIONE [LM5610] - BASCHIERA Barbara\, Lezione
URL;VALUE=URI://www.unive.it/data/insegnamento/623280
DTSTART:20251128T121500
END:VEVENT
BEGIN:VEVENT
DTEND:20251201T134500
UID:69e925f7b4fa0
DTSTAMP:20260422T194807
LOCATION:Aula 2L Polo didattico San Basilio (Magazzino 4)
SUMMARY:PEDAGOGIA E DIDATTICA DELL'INCLUSIONE [LM5610] - BASCHIERA Barbara\, Lezione
URL;VALUE=URI://www.unive.it/data/insegnamento/623280
DTSTART:20251201T121500
END:VEVENT
BEGIN:VEVENT
DTEND:20251203T134500
UID:69e925f7b4fed
DTSTAMP:20260422T194807
LOCATION:Sala Giovanni Morelli Malcanton Marcorà
SUMMARY:PEDAGOGIA E DIDATTICA DELL'INCLUSIONE [LM5610] - BASCHIERA Barbara\, Lezione
URL;VALUE=URI://www.unive.it/data/insegnamento/623280
DTSTART:20251203T121500
END:VEVENT
BEGIN:VEVENT
DTEND:20251205T134500
UID:69e925f7b5039
DTSTAMP:20260422T194807
LOCATION:Aula San Trovaso Aula San Trovaso
SUMMARY:PEDAGOGIA E DIDATTICA DELL'INCLUSIONE [LM5610] - BASCHIERA Barbara\, Lezione
URL;VALUE=URI://www.unive.it/data/insegnamento/623280
DTSTART:20251205T121500
END:VEVENT
BEGIN:VEVENT
DTEND:20251210T134500
UID:69e925f7b5084
DTSTAMP:20260422T194807
LOCATION:ALTRO Altro
SUMMARY:PEDAGOGIA E DIDATTICA DELL'INCLUSIONE [LM5610] - BASCHIERA Barbara\, Lezione
URL;VALUE=URI://www.unive.it/data/insegnamento/623280
DTSTART:20251210T121500
END:VEVENT
BEGIN:VEVENT
DTEND:20251212T134500
UID:69e925f7b50b0
DTSTAMP:20260422T194807
LOCATION:ALTRO Altro
SUMMARY:PEDAGOGIA E DIDATTICA DELL'INCLUSIONE [LM5610] - BASCHIERA Barbara\, Lezione
URL;VALUE=URI://www.unive.it/data/insegnamento/623280
DTSTART:20251212T121500
END:VEVENT
BEGIN:VEVENT
DTEND:20251215T134500
UID:69e925f7b50fb
DTSTAMP:20260422T194807
LOCATION:Aula 2L Polo didattico San Basilio (Magazzino 4)
SUMMARY:PEDAGOGIA E DIDATTICA DELL'INCLUSIONE [LM5610] - BASCHIERA Barbara\, Lezione
URL;VALUE=URI://www.unive.it/data/insegnamento/623280
DTSTART:20251215T121500
END:VEVENT
BEGIN:VEVENT
DTEND:20251217T134500
UID:69e925f7b5147
DTSTAMP:20260422T194807
LOCATION:Sala Giovanni Morelli Malcanton Marcorà
SUMMARY:PEDAGOGIA E DIDATTICA DELL'INCLUSIONE [LM5610] - BASCHIERA Barbara\, Lezione
URL;VALUE=URI://www.unive.it/data/insegnamento/623280
DTSTART:20251217T121500
END:VEVENT
BEGIN:VEVENT
DTEND:20251219T134500
UID:69e925f7b5193
DTSTAMP:20260422T194807
LOCATION:Aula San Trovaso Aula San Trovaso
SUMMARY:PEDAGOGIA E DIDATTICA DELL'INCLUSIONE [LM5610] - BASCHIERA Barbara\, Lezione
URL;VALUE=URI://www.unive.it/data/insegnamento/623280
DTSTART:20251219T121500
END:VEVENT
END:VCALENDAR