BEGIN:VCALENDAR
VERSION:2.0
PRODID:-//hacksw/handcal//NONSGML v1.0//EN
CALSCALE:GREGORIAN
X-WR-CALNAME:GERMANIC PHILOLOGY 2 MOD. 1 [LM5900]
DESCRIPTION:GERMANIC PHILOLOGY 2 MOD. 1 [LM5900]
REFRESH-INTERVAL;VALUE=DURATION:P1D
X-WR-TIMEZONE:Europe/Rome
BEGIN:VEVENT
DTEND:20260226T153000
UID:69e7981b393a2
DTSTAMP:20260421T153035
LOCATION:Aula C Ca' Bembo
SUMMARY:GERMANIC PHILOLOGY 2 MOD. 1 [LM5900] - DE BASTIANI Chiara\, Lezione
URL;VALUE=URI://www.unive.it/data/insegnamento/623281
DTSTART:20260226T140000
END:VEVENT
BEGIN:VEVENT
DTEND:20260305T153000
UID:69e7981b3942b
DTSTAMP:20260421T153035
LOCATION:Aula C Ca' Bembo
SUMMARY:GERMANIC PHILOLOGY 2 MOD. 1 [LM5900] - DE BASTIANI Chiara\, Lezione
URL;VALUE=URI://www.unive.it/data/insegnamento/623281
DTSTART:20260305T140000
END:VEVENT
BEGIN:VEVENT
DTEND:20260312T153000
UID:69e7981b39488
DTSTAMP:20260421T153035
LOCATION:Aula C Ca' Bembo
SUMMARY:GERMANIC PHILOLOGY 2 MOD. 1 [LM5900] - DE BASTIANI Chiara\, Lezione
URL;VALUE=URI://www.unive.it/data/insegnamento/623281
DTSTART:20260312T140000
END:VEVENT
BEGIN:VEVENT
DTEND:20260319T153000
UID:69e7981b394d6
DTSTAMP:20260421T153035
LOCATION:Aula C Ca' Bembo
SUMMARY:GERMANIC PHILOLOGY 2 MOD. 1 [LM5900] - DE BASTIANI Chiara\, Lezione
URL;VALUE=URI://www.unive.it/data/insegnamento/623281
DTSTART:20260319T140000
END:VEVENT
BEGIN:VEVENT
DTEND:20260326T153000
UID:69e7981b39521
DTSTAMP:20260421T153035
LOCATION:Aula C Ca' Bembo
SUMMARY:GERMANIC PHILOLOGY 2 MOD. 1 [LM5900] - DE BASTIANI Chiara\, Lezione
URL;VALUE=URI://www.unive.it/data/insegnamento/623281
DTSTART:20260326T140000
END:VEVENT
BEGIN:VEVENT
DTEND:20260402T153000
UID:69e7981b3956c
DTSTAMP:20260421T153035
LOCATION:Aula C Ca' Bembo
SUMMARY:GERMANIC PHILOLOGY 2 MOD. 1 [LM5900] - DE BASTIANI Chiara\, Lezione
URL;VALUE=URI://www.unive.it/data/insegnamento/623281
DTSTART:20260402T140000
END:VEVENT
BEGIN:VEVENT
DTEND:20260423T153000
UID:69e7981b395b6
DTSTAMP:20260421T153035
LOCATION:Aula C Ca' Bembo
SUMMARY:GERMANIC PHILOLOGY 2 MOD. 1 [LM5900] - DE BASTIANI Chiara\, Lezione
URL;VALUE=URI://www.unive.it/data/insegnamento/623281
DTSTART:20260423T140000
END:VEVENT
BEGIN:VEVENT
DTEND:20260430T153000
UID:69e7981b39601
DTSTAMP:20260421T153035
LOCATION:Aula C Ca' Bembo
SUMMARY:GERMANIC PHILOLOGY 2 MOD. 1 [LM5900] - DE BASTIANI Chiara\, Lezione
URL;VALUE=URI://www.unive.it/data/insegnamento/623281
DTSTART:20260430T140000
END:VEVENT
BEGIN:VEVENT
DTEND:20260504T190000
UID:69e7981b3964b
DTSTAMP:20260421T153035
LOCATION:Aula Saoneria Ca' Dolfin - Saoneria
SUMMARY:GERMANIC PHILOLOGY 2 MOD. 1 [LM5900] - DE BASTIANI Chiara\, Lezione
URL;VALUE=URI://www.unive.it/data/insegnamento/623281
DTSTART:20260504T173000
END:VEVENT
BEGIN:VEVENT
DTEND:20260507T153000
UID:69e7981b39697
DTSTAMP:20260421T153035
LOCATION:Aula C Ca' Bembo
SUMMARY:GERMANIC PHILOLOGY 2 MOD. 1 [LM5900] - DE BASTIANI Chiara\, Lezione
URL;VALUE=URI://www.unive.it/data/insegnamento/623281
DTSTART:20260507T140000
END:VEVENT
BEGIN:VEVENT
DTEND:20260511T190000
UID:69e7981b396e2
DTSTAMP:20260421T153035
LOCATION:Aula Saoneria Ca' Dolfin - Saoneria
SUMMARY:GERMANIC PHILOLOGY 2 MOD. 1 [LM5900] - DE BASTIANI Chiara\, Lezione
URL;VALUE=URI://www.unive.it/data/insegnamento/623281
DTSTART:20260511T173000
END:VEVENT
BEGIN:VEVENT
DTEND:20260514T153000
UID:69e7981b3972c
DTSTAMP:20260421T153035
LOCATION:Aula C Ca' Bembo
SUMMARY:GERMANIC PHILOLOGY 2 MOD. 1 [LM5900] - DE BASTIANI Chiara\, Lezione
URL;VALUE=URI://www.unive.it/data/insegnamento/623281
DTSTART:20260514T140000
END:VEVENT
BEGIN:VEVENT
DTEND:20260518T190000
UID:69e7981b39776
DTSTAMP:20260421T153035
LOCATION:Aula Saoneria Ca' Dolfin - Saoneria
SUMMARY:GERMANIC PHILOLOGY 2 MOD. 1 [LM5900] - DE BASTIANI Chiara\, Lezione
URL;VALUE=URI://www.unive.it/data/insegnamento/623281
DTSTART:20260518T173000
END:VEVENT
BEGIN:VEVENT
DTEND:20260521T153000
UID:69e7981b397c3
DTSTAMP:20260421T153035
LOCATION:Aula C Ca' Bembo
SUMMARY:GERMANIC PHILOLOGY 2 MOD. 1 [LM5900] - DE BASTIANI Chiara\, Lezione
URL;VALUE=URI://www.unive.it/data/insegnamento/623281
DTSTART:20260521T140000
END:VEVENT
BEGIN:VEVENT
DTEND:20260525T190000
UID:69e7981b39829
DTSTAMP:20260421T153035
LOCATION:Aula C Ca' Bembo
SUMMARY:GERMANIC PHILOLOGY 2 MOD. 1 [LM5900] - DE BASTIANI Chiara\, Lezione
URL;VALUE=URI://www.unive.it/data/insegnamento/623281
DTSTART:20260525T173000
END:VEVENT
END:VCALENDAR