BEGIN:VCALENDAR
VERSION:2.0
PRODID:-//hacksw/handcal//NONSGML v1.0//EN
CALSCALE:GREGORIAN
X-WR-CALNAME:LINGUA ALBANESE 3 -E1 [LT008A]
DESCRIPTION:LINGUA ALBANESE 3 -E1 [LT008A]
REFRESH-INTERVAL;VALUE=DURATION:P1D
X-WR-TIMEZONE:Europe/Rome
BEGIN:VEVENT
DTEND:20250925T120000
UID:69e819316f928
DTSTAMP:20260422T004121
LOCATION:Aula 2 Ca' Dolfin - Saoneria
SUMMARY:LINGUA ALBANESE 3 -E1 [LT008A] - ALHASA ANILA\, Lezione
URL;VALUE=URI://www.unive.it/data/insegnamento/623950
DTSTART:20250925T103000
END:VEVENT
BEGIN:VEVENT
DTEND:20251002T120000
UID:69e819316f9de
DTSTAMP:20260422T004121
LOCATION:Aula 2 Ca' Dolfin - Saoneria
SUMMARY:LINGUA ALBANESE 3 -E1 [LT008A] - ALHASA ANILA\, Lezione
URL;VALUE=URI://www.unive.it/data/insegnamento/623950
DTSTART:20251002T103000
END:VEVENT
BEGIN:VEVENT
DTEND:20251009T120000
UID:69e819316fa40
DTSTAMP:20260422T004121
LOCATION:Aula 2 Ca' Dolfin - Saoneria
SUMMARY:LINGUA ALBANESE 3 -E1 [LT008A] - ALHASA ANILA\, Lezione
URL;VALUE=URI://www.unive.it/data/insegnamento/623950
DTSTART:20251009T103000
END:VEVENT
BEGIN:VEVENT
DTEND:20251016T120000
UID:69e819316fa95
DTSTAMP:20260422T004121
LOCATION:Aula 2 Ca' Dolfin - Saoneria
SUMMARY:LINGUA ALBANESE 3 -E1 [LT008A] - ALHASA ANILA\, Lezione
URL;VALUE=URI://www.unive.it/data/insegnamento/623950
DTSTART:20251016T103000
END:VEVENT
BEGIN:VEVENT
DTEND:20251023T120000
UID:69e819316fae5
DTSTAMP:20260422T004121
LOCATION:Aula 2 Ca' Dolfin - Saoneria
SUMMARY:LINGUA ALBANESE 3 -E1 [LT008A] - ALHASA ANILA\, Lezione
URL;VALUE=URI://www.unive.it/data/insegnamento/623950
DTSTART:20251023T103000
END:VEVENT
BEGIN:VEVENT
DTEND:20251030T120000
UID:69e819316fb41
DTSTAMP:20260422T004121
LOCATION:Aula 2 Ca' Dolfin - Saoneria
SUMMARY:LINGUA ALBANESE 3 -E1 [LT008A] - ALHASA ANILA\, Lezione
URL;VALUE=URI://www.unive.it/data/insegnamento/623950
DTSTART:20251030T103000
END:VEVENT
BEGIN:VEVENT
DTEND:20251106T120000
UID:69e819316fba1
DTSTAMP:20260422T004121
LOCATION:Aula 2 Ca' Dolfin - Saoneria
SUMMARY:LINGUA ALBANESE 3 -E1 [LT008A] - ALHASA ANILA\, Lezione
URL;VALUE=URI://www.unive.it/data/insegnamento/623950
DTSTART:20251106T103000
END:VEVENT
BEGIN:VEVENT
DTEND:20251113T120000
UID:69e819316fbed
DTSTAMP:20260422T004121
LOCATION:Aula 2 Ca' Dolfin - Saoneria
SUMMARY:LINGUA ALBANESE 3 -E1 [LT008A] - ALHASA ANILA\, Lezione
URL;VALUE=URI://www.unive.it/data/insegnamento/623950
DTSTART:20251113T103000
END:VEVENT
BEGIN:VEVENT
DTEND:20251120T120000
UID:69e819316fc36
DTSTAMP:20260422T004121
LOCATION:Aula 2 Ca' Dolfin - Saoneria
SUMMARY:LINGUA ALBANESE 3 -E1 [LT008A] - ALHASA ANILA\, Lezione
URL;VALUE=URI://www.unive.it/data/insegnamento/623950
DTSTART:20251120T103000
END:VEVENT
BEGIN:VEVENT
DTEND:20251127T120000
UID:69e819316fc81
DTSTAMP:20260422T004121
LOCATION:Aula 2 Ca' Dolfin - Saoneria
SUMMARY:LINGUA ALBANESE 3 -E1 [LT008A] - ALHASA ANILA\, Lezione
URL;VALUE=URI://www.unive.it/data/insegnamento/623950
DTSTART:20251127T103000
END:VEVENT
BEGIN:VEVENT
DTEND:20251204T120000
UID:69e819316fccb
DTSTAMP:20260422T004121
LOCATION:Aula 2 Ca' Dolfin - Saoneria
SUMMARY:LINGUA ALBANESE 3 -E1 [LT008A] - ALHASA ANILA\, Lezione
URL;VALUE=URI://www.unive.it/data/insegnamento/623950
DTSTART:20251204T103000
END:VEVENT
BEGIN:VEVENT
DTEND:20251211T120000
UID:69e819316fd16
DTSTAMP:20260422T004121
LOCATION:Aula 2 Ca' Dolfin - Saoneria
SUMMARY:LINGUA ALBANESE 3 -E1 [LT008A] - ALHASA ANILA\, Lezione
URL;VALUE=URI://www.unive.it/data/insegnamento/623950
DTSTART:20251211T103000
END:VEVENT
BEGIN:VEVENT
DTEND:20251218T120000
UID:69e819316fd60
DTSTAMP:20260422T004121
LOCATION:Aula 2 Ca' Dolfin - Saoneria
SUMMARY:LINGUA ALBANESE 3 -E1 [LT008A] - ALHASA ANILA\, Lezione
URL;VALUE=URI://www.unive.it/data/insegnamento/623950
DTSTART:20251218T103000
END:VEVENT
BEGIN:VEVENT
DTEND:20260115T120000
UID:69e819316fdac
DTSTAMP:20260422T004121
LOCATION:Aula 2 Ca' Dolfin - Saoneria
SUMMARY:LINGUA ALBANESE 3 -E1 [LT008A] - ALHASA ANILA\, Lezione
URL;VALUE=URI://www.unive.it/data/insegnamento/623950
DTSTART:20260115T103000
END:VEVENT
BEGIN:VEVENT
DTEND:20260122T120000
UID:69e819316fdf9
DTSTAMP:20260422T004121
LOCATION:Aula 2 Ca' Dolfin - Saoneria
SUMMARY:LINGUA ALBANESE 3 -E1 [LT008A] - ALHASA ANILA\, Lezione
URL;VALUE=URI://www.unive.it/data/insegnamento/623950
DTSTART:20260122T103000
END:VEVENT
BEGIN:VEVENT
DTEND:20260225T153000
UID:69e819316fe4e
DTSTAMP:20260422T004121
LOCATION:Aula 5 Rio Novo
SUMMARY:LINGUA ALBANESE 3 -E1 [LT008A] - ALHASA ANILA\, Lezione
URL;VALUE=URI://www.unive.it/data/insegnamento/623950
DTSTART:20260225T140000
END:VEVENT
BEGIN:VEVENT
DTEND:20260226T134500
UID:69e819316fea5
DTSTAMP:20260422T004121
LOCATION:Aula F (Aula AM C) Ca' Cappello
SUMMARY:LINGUA ALBANESE 3 -E1 [LT008A] - ALHASA ANILA\, Lezione
URL;VALUE=URI://www.unive.it/data/insegnamento/623950
DTSTART:20260226T121500
END:VEVENT
BEGIN:VEVENT
DTEND:20260304T153000
UID:69e819316fef3
DTSTAMP:20260422T004121
LOCATION:Aula 5 Rio Novo
SUMMARY:LINGUA ALBANESE 3 -E1 [LT008A] - ALHASA ANILA\, Lezione
URL;VALUE=URI://www.unive.it/data/insegnamento/623950
DTSTART:20260304T140000
END:VEVENT
BEGIN:VEVENT
DTEND:20260305T134500
UID:69e819316ff38
DTSTAMP:20260422T004121
LOCATION:Aula F (Aula AM C) Ca' Cappello
SUMMARY:LINGUA ALBANESE 3 -E1 [LT008A] - ALHASA ANILA\, Lezione
URL;VALUE=URI://www.unive.it/data/insegnamento/623950
DTSTART:20260305T121500
END:VEVENT
BEGIN:VEVENT
DTEND:20260311T153000
UID:69e819316ff83
DTSTAMP:20260422T004121
LOCATION:Aula 5 Rio Novo
SUMMARY:LINGUA ALBANESE 3 -E1 [LT008A] - ALHASA ANILA\, Lezione
URL;VALUE=URI://www.unive.it/data/insegnamento/623950
DTSTART:20260311T140000
END:VEVENT
BEGIN:VEVENT
DTEND:20260312T134500
UID:69e819316ffcd
DTSTAMP:20260422T004121
LOCATION:Aula 6 Rio Novo
SUMMARY:LINGUA ALBANESE 3 -E1 [LT008A] - ALHASA ANILA\, Lezione
URL;VALUE=URI://www.unive.it/data/insegnamento/623950
DTSTART:20260312T121500
END:VEVENT
BEGIN:VEVENT
DTEND:20260318T153000
UID:69e8193170017
DTSTAMP:20260422T004121
LOCATION:Aula 5 Rio Novo
SUMMARY:LINGUA ALBANESE 3 -E1 [LT008A] - ALHASA ANILA\, Lezione
URL;VALUE=URI://www.unive.it/data/insegnamento/623950
DTSTART:20260318T140000
END:VEVENT
BEGIN:VEVENT
DTEND:20260319T134500
UID:69e8193170060
DTSTAMP:20260422T004121
LOCATION:Aula F (Aula AM C) Ca' Cappello
SUMMARY:LINGUA ALBANESE 3 -E1 [LT008A] - ALHASA ANILA\, Lezione
URL;VALUE=URI://www.unive.it/data/insegnamento/623950
DTSTART:20260319T121500
END:VEVENT
BEGIN:VEVENT
DTEND:20260325T153000
UID:69e81931700ab
DTSTAMP:20260422T004121
LOCATION:Aula 5 Rio Novo
SUMMARY:LINGUA ALBANESE 3 -E1 [LT008A] - ALHASA ANILA\, Lezione
URL;VALUE=URI://www.unive.it/data/insegnamento/623950
DTSTART:20260325T140000
END:VEVENT
BEGIN:VEVENT
DTEND:20260326T134500
UID:69e81931700f6
DTSTAMP:20260422T004121
LOCATION:Aula F (Aula AM C) Ca' Cappello
SUMMARY:LINGUA ALBANESE 3 -E1 [LT008A] - ALHASA ANILA\, Lezione
URL;VALUE=URI://www.unive.it/data/insegnamento/623950
DTSTART:20260326T121500
END:VEVENT
BEGIN:VEVENT
DTEND:20260401T153000
UID:69e8193170141
DTSTAMP:20260422T004121
LOCATION:Aula 5 Rio Novo
SUMMARY:LINGUA ALBANESE 3 -E1 [LT008A] - ALHASA ANILA\, Lezione
URL;VALUE=URI://www.unive.it/data/insegnamento/623950
DTSTART:20260401T140000
END:VEVENT
BEGIN:VEVENT
DTEND:20260402T134500
UID:69e819317018b
DTSTAMP:20260422T004121
LOCATION:Aula F (Aula AM C) Ca' Cappello
SUMMARY:LINGUA ALBANESE 3 -E1 [LT008A] - ALHASA ANILA\, Lezione
URL;VALUE=URI://www.unive.it/data/insegnamento/623950
DTSTART:20260402T121500
END:VEVENT
BEGIN:VEVENT
DTEND:20260408T153000
UID:69e81931701d7
DTSTAMP:20260422T004121
LOCATION:Aula 5 Rio Novo
SUMMARY:LINGUA ALBANESE 3 -E1 [LT008A] - ALHASA ANILA\, Lezione
URL;VALUE=URI://www.unive.it/data/insegnamento/623950
DTSTART:20260408T140000
END:VEVENT
BEGIN:VEVENT
DTEND:20260409T134500
UID:69e8193170221
DTSTAMP:20260422T004121
LOCATION:Aula F (Aula AM C) Ca' Cappello
SUMMARY:LINGUA ALBANESE 3 -E1 [LT008A] - ALHASA ANILA\, Lezione
URL;VALUE=URI://www.unive.it/data/insegnamento/623950
DTSTART:20260409T121500
END:VEVENT
BEGIN:VEVENT
DTEND:20260415T153000
UID:69e819317026c
DTSTAMP:20260422T004121
LOCATION:Aula 5 Rio Novo
SUMMARY:LINGUA ALBANESE 3 -E1 [LT008A] - ALHASA ANILA\, Lezione
URL;VALUE=URI://www.unive.it/data/insegnamento/623950
DTSTART:20260415T140000
END:VEVENT
BEGIN:VEVENT
DTEND:20260416T134500
UID:69e81931702b6
DTSTAMP:20260422T004121
LOCATION:Aula F (Aula AM C) Ca' Cappello
SUMMARY:LINGUA ALBANESE 3 -E1 [LT008A] - ALHASA ANILA\, Lezione
URL;VALUE=URI://www.unive.it/data/insegnamento/623950
DTSTART:20260416T121500
END:VEVENT
BEGIN:VEVENT
DTEND:20260422T153000
UID:69e8193170300
DTSTAMP:20260422T004121
LOCATION:Aula 5 Rio Novo
SUMMARY:LINGUA ALBANESE 3 -E1 [LT008A] - ALHASA ANILA\, Lezione
URL;VALUE=URI://www.unive.it/data/insegnamento/623950
DTSTART:20260422T140000
END:VEVENT
BEGIN:VEVENT
DTEND:20260423T134500
UID:69e8193170322
DTSTAMP:20260422T004121
LOCATION:Aula F (Aula AM C) Ca' Cappello
SUMMARY:LINGUA ALBANESE 3 -E1 [LT008A] - ALHASA ANILA\, Lezione
URL;VALUE=URI://www.unive.it/data/insegnamento/623950
DTSTART:20260423T121500
END:VEVENT
BEGIN:VEVENT
DTEND:20260429T153000
UID:69e819317036d
DTSTAMP:20260422T004121
LOCATION:Aula 5 Rio Novo
SUMMARY:LINGUA ALBANESE 3 -E1 [LT008A] - ALHASA ANILA\, Lezione
URL;VALUE=URI://www.unive.it/data/insegnamento/623950
DTSTART:20260429T140000
END:VEVENT
BEGIN:VEVENT
DTEND:20260430T134500
UID:69e81931703b6
DTSTAMP:20260422T004121
LOCATION:Aula F (Aula AM C) Ca' Cappello
SUMMARY:LINGUA ALBANESE 3 -E1 [LT008A] - ALHASA ANILA\, Lezione
URL;VALUE=URI://www.unive.it/data/insegnamento/623950
DTSTART:20260430T121500
END:VEVENT
BEGIN:VEVENT
DTEND:20260506T153000
UID:69e8193170401
DTSTAMP:20260422T004121
LOCATION:Aula 5 Rio Novo
SUMMARY:LINGUA ALBANESE 3 -E1 [LT008A] - ALHASA ANILA\, Lezione
URL;VALUE=URI://www.unive.it/data/insegnamento/623950
DTSTART:20260506T140000
END:VEVENT
BEGIN:VEVENT
DTEND:20260507T134500
UID:69e819317044b
DTSTAMP:20260422T004121
LOCATION:Aula F (Aula AM C) Ca' Cappello
SUMMARY:LINGUA ALBANESE 3 -E1 [LT008A] - ALHASA ANILA\, Lezione
URL;VALUE=URI://www.unive.it/data/insegnamento/623950
DTSTART:20260507T121500
END:VEVENT
BEGIN:VEVENT
DTEND:20260513T153000
UID:69e8193170496
DTSTAMP:20260422T004121
LOCATION:Aula 5 Rio Novo
SUMMARY:LINGUA ALBANESE 3 -E1 [LT008A] - ALHASA ANILA\, Lezione
URL;VALUE=URI://www.unive.it/data/insegnamento/623950
DTSTART:20260513T140000
END:VEVENT
BEGIN:VEVENT
DTEND:20260514T134500
UID:69e81931704df
DTSTAMP:20260422T004121
LOCATION:Aula F (Aula AM C) Ca' Cappello
SUMMARY:LINGUA ALBANESE 3 -E1 [LT008A] - ALHASA ANILA\, Lezione
URL;VALUE=URI://www.unive.it/data/insegnamento/623950
DTSTART:20260514T121500
END:VEVENT
BEGIN:VEVENT
DTEND:20260520T153000
UID:69e819317052c
DTSTAMP:20260422T004121
LOCATION:Aula 5 Rio Novo
SUMMARY:LINGUA ALBANESE 3 -E1 [LT008A] - ALHASA ANILA\, Lezione
URL;VALUE=URI://www.unive.it/data/insegnamento/623950
DTSTART:20260520T140000
END:VEVENT
BEGIN:VEVENT
DTEND:20260521T134500
UID:69e8193170580
DTSTAMP:20260422T004121
LOCATION:Aula F (Aula AM C) Ca' Cappello
SUMMARY:LINGUA ALBANESE 3 -E1 [LT008A] - ALHASA ANILA\, Lezione
URL;VALUE=URI://www.unive.it/data/insegnamento/623950
DTSTART:20260521T121500
END:VEVENT
BEGIN:VEVENT
DTEND:20260527T153000
UID:69e81931705d8
DTSTAMP:20260422T004121
LOCATION:Aula 5 Rio Novo
SUMMARY:LINGUA ALBANESE 3 -E1 [LT008A] - ALHASA ANILA\, Lezione
URL;VALUE=URI://www.unive.it/data/insegnamento/623950
DTSTART:20260527T140000
END:VEVENT
BEGIN:VEVENT
DTEND:20260528T134500
UID:69e8193170626
DTSTAMP:20260422T004121
LOCATION:Aula F (Aula AM C) Ca' Cappello
SUMMARY:LINGUA ALBANESE 3 -E1 [LT008A] - ALHASA ANILA\, Lezione
URL;VALUE=URI://www.unive.it/data/insegnamento/623950
DTSTART:20260528T121500
END:VEVENT
BEGIN:VEVENT
DTEND:20260603T153000
UID:69e8193170671
DTSTAMP:20260422T004121
LOCATION:Aula 5 Rio Novo
SUMMARY:LINGUA ALBANESE 3 -E1 [LT008A] - ALHASA ANILA\, Lezione
URL;VALUE=URI://www.unive.it/data/insegnamento/623950
DTSTART:20260603T140000
END:VEVENT
BEGIN:VEVENT
DTEND:20260604T134500
UID:69e81931706bd
DTSTAMP:20260422T004121
LOCATION:Aula F (Aula AM C) Ca' Cappello
SUMMARY:LINGUA ALBANESE 3 -E1 [LT008A] - ALHASA ANILA\, Lezione
URL;VALUE=URI://www.unive.it/data/insegnamento/623950
DTSTART:20260604T121500
END:VEVENT
END:VCALENDAR