BEGIN:VCALENDAR
VERSION:2.0
PRODID:-//hacksw/handcal//NONSGML v1.0//EN
CALSCALE:GREGORIAN
X-WR-CALNAME:LINGUA INGLESE PER STUDI ANGLO-AMERICANI 3 [LT031P]
DESCRIPTION:LINGUA INGLESE PER STUDI ANGLO-AMERICANI 3 [LT031P]
REFRESH-INTERVAL;VALUE=DURATION:P1D
X-WR-TIMEZONE:Europe/Rome
BEGIN:VEVENT
DTEND:20260225T134500
UID:69e4ca7522662
DTSTAMP:20260419T122837
LOCATION:Aula 0C Polo didattico San Basilio (Magazzino 5)
SUMMARY:LINGUA INGLESE PER STUDI ANGLO-AMERICANI 3 [LT031P] - RIGGS Ashley Merrill\, Lezione
URL;VALUE=URI://www.unive.it/data/insegnamento/623963
DTSTART:20260225T121500
END:VEVENT
BEGIN:VEVENT
DTEND:20260304T134500
UID:69e4ca75226fd
DTSTAMP:20260419T122837
LOCATION:Aula 0C Polo didattico San Basilio (Magazzino 5)
SUMMARY:LINGUA INGLESE PER STUDI ANGLO-AMERICANI 3 [LT031P] - RIGGS Ashley Merrill\, Lezione
URL;VALUE=URI://www.unive.it/data/insegnamento/623963
DTSTART:20260304T121500
END:VEVENT
BEGIN:VEVENT
DTEND:20260311T134500
UID:69e4ca7522750
DTSTAMP:20260419T122837
LOCATION:Aula 0C Polo didattico San Basilio (Magazzino 5)
SUMMARY:LINGUA INGLESE PER STUDI ANGLO-AMERICANI 3 [LT031P] - RIGGS Ashley Merrill\, Lezione
URL;VALUE=URI://www.unive.it/data/insegnamento/623963
DTSTART:20260311T121500
END:VEVENT
BEGIN:VEVENT
DTEND:20260318T134500
UID:69e4ca75227a2
DTSTAMP:20260419T122837
LOCATION:Aula 0C Polo didattico San Basilio (Magazzino 5)
SUMMARY:LINGUA INGLESE PER STUDI ANGLO-AMERICANI 3 [LT031P] - RIGGS Ashley Merrill\, Lezione
URL;VALUE=URI://www.unive.it/data/insegnamento/623963
DTSTART:20260318T121500
END:VEVENT
BEGIN:VEVENT
DTEND:20260325T134500
UID:69e4ca75227f1
DTSTAMP:20260419T122837
LOCATION:Aula 0C Polo didattico San Basilio (Magazzino 5)
SUMMARY:LINGUA INGLESE PER STUDI ANGLO-AMERICANI 3 [LT031P] - RIGGS Ashley Merrill\, Lezione
URL;VALUE=URI://www.unive.it/data/insegnamento/623963
DTSTART:20260325T121500
END:VEVENT
BEGIN:VEVENT
DTEND:20260401T134500
UID:69e4ca752283c
DTSTAMP:20260419T122837
LOCATION:Aula 0C Polo didattico San Basilio (Magazzino 5)
SUMMARY:LINGUA INGLESE PER STUDI ANGLO-AMERICANI 3 [LT031P] - RIGGS Ashley Merrill\, Lezione
URL;VALUE=URI://www.unive.it/data/insegnamento/623963
DTSTART:20260401T121500
END:VEVENT
BEGIN:VEVENT
DTEND:20260408T134500
UID:69e4ca7522888
DTSTAMP:20260419T122837
LOCATION:Aula 0C Polo didattico San Basilio (Magazzino 5)
SUMMARY:LINGUA INGLESE PER STUDI ANGLO-AMERICANI 3 [LT031P] - RIGGS Ashley Merrill\, Lezione
URL;VALUE=URI://www.unive.it/data/insegnamento/623963
DTSTART:20260408T121500
END:VEVENT
BEGIN:VEVENT
DTEND:20260415T134500
UID:69e4ca75228d3
DTSTAMP:20260419T122837
LOCATION:Aula 0C Polo didattico San Basilio (Magazzino 5)
SUMMARY:LINGUA INGLESE PER STUDI ANGLO-AMERICANI 3 [LT031P] - RIGGS Ashley Merrill\, Lezione
URL;VALUE=URI://www.unive.it/data/insegnamento/623963
DTSTART:20260415T121500
END:VEVENT
BEGIN:VEVENT
DTEND:20260422T134500
UID:69e4ca7522928
DTSTAMP:20260419T122837
LOCATION:Aula 0C Polo didattico San Basilio (Magazzino 5)
SUMMARY:LINGUA INGLESE PER STUDI ANGLO-AMERICANI 3 [LT031P] - RIGGS Ashley Merrill\, Lezione
URL;VALUE=URI://www.unive.it/data/insegnamento/623963
DTSTART:20260422T121500
END:VEVENT
BEGIN:VEVENT
DTEND:20260429T134500
UID:69e4ca7522974
DTSTAMP:20260419T122837
LOCATION:Aula 0C Polo didattico San Basilio (Magazzino 5)
SUMMARY:LINGUA INGLESE PER STUDI ANGLO-AMERICANI 3 [LT031P] - RIGGS Ashley Merrill\, Lezione
URL;VALUE=URI://www.unive.it/data/insegnamento/623963
DTSTART:20260429T121500
END:VEVENT
BEGIN:VEVENT
DTEND:20260506T134500
UID:69e4ca75229c0
DTSTAMP:20260419T122837
LOCATION:Aula 0C Polo didattico San Basilio (Magazzino 5)
SUMMARY:LINGUA INGLESE PER STUDI ANGLO-AMERICANI 3 [LT031P] - RIGGS Ashley Merrill\, Lezione
URL;VALUE=URI://www.unive.it/data/insegnamento/623963
DTSTART:20260506T121500
END:VEVENT
BEGIN:VEVENT
DTEND:20260506T190000
UID:69e4ca7522a0b
DTSTAMP:20260419T122837
LOCATION:Aula 1 Ca' Dolfin - Saoneria
SUMMARY:LINGUA INGLESE PER STUDI ANGLO-AMERICANI 3 [LT031P] - RIGGS Ashley Merrill\, Lezione
URL;VALUE=URI://www.unive.it/data/insegnamento/623963
DTSTART:20260506T173000
END:VEVENT
BEGIN:VEVENT
DTEND:20260513T134500
UID:69e4ca7522a56
DTSTAMP:20260419T122837
LOCATION:Aula 0C Polo didattico San Basilio (Magazzino 5)
SUMMARY:LINGUA INGLESE PER STUDI ANGLO-AMERICANI 3 [LT031P] - RIGGS Ashley Merrill\, Lezione
URL;VALUE=URI://www.unive.it/data/insegnamento/623963
DTSTART:20260513T121500
END:VEVENT
BEGIN:VEVENT
DTEND:20260520T134500
UID:69e4ca7522aa2
DTSTAMP:20260419T122837
LOCATION:Aula 0C Polo didattico San Basilio (Magazzino 5)
SUMMARY:LINGUA INGLESE PER STUDI ANGLO-AMERICANI 3 [LT031P] - RIGGS Ashley Merrill\, Lezione
URL;VALUE=URI://www.unive.it/data/insegnamento/623963
DTSTART:20260520T121500
END:VEVENT
BEGIN:VEVENT
DTEND:20260527T134500
UID:69e4ca7522aef
DTSTAMP:20260419T122837
LOCATION:Aula 0C Polo didattico San Basilio (Magazzino 5)
SUMMARY:LINGUA INGLESE PER STUDI ANGLO-AMERICANI 3 [LT031P] - RIGGS Ashley Merrill\, Lezione
URL;VALUE=URI://www.unive.it/data/insegnamento/623963
DTSTART:20260527T121500
END:VEVENT
BEGIN:VEVENT
DTEND:20260603T134500
UID:69e4ca7522b3a
DTSTAMP:20260419T122837
LOCATION:Aula 0C Polo didattico San Basilio (Magazzino 5)
SUMMARY:LINGUA INGLESE PER STUDI ANGLO-AMERICANI 3 [LT031P] - RIGGS Ashley Merrill\, Lezione
URL;VALUE=URI://www.unive.it/data/insegnamento/623963
DTSTART:20260603T121500
END:VEVENT
END:VCALENDAR